BEGIN:VCALENDAR
VERSION:2.0
PRODID:-//ChamberMaster//Event Calendar 2.0//EN
METHOD:PUBLISH
X-PUBLISHED-TTL:P3D
REFRESH-INTERVAL:P3D
CALSCALE:GREGORIAN
BEGIN:VEVENT
DTSTART;VALUE=DATE:20250425
DTEND;VALUE=DATE:20250426
TRANSP:TRANSPARENT
X-MICROSOFT-CDO-ALLDAYEVENT:TRUE
SUMMARY:Boys & Girls Clubs of the Twin Cities For the Kids Gala - POWER in Possibilities
DESCRIPTION:For the Kids! Power in Possibilities\n\nApril 25\, 2025 | 5:00pm\n\nThe Depot Minneapolis\n\n\nEvery young person has the power within to discover their passions and interests\, grow as individuals\, and achieve their goals. For the Kids! Power in Possibilities will showcase the many ways in which Club members have ignited their own power as they create a path toward a successful future.\n\nFor the Kids! provides an opportunity for us to come together to celebrate Club youth while raising funds that support Club members in achieving our North Star Goal: all members on track for a successful future beyond high school graduation.\n\nThis year's For the Kids! will feature Club teens sharing their Changemaker Challenge projects\, remarks from BGCTC's Youth of the Year\, a Club youth performance\, premier silent and live auctions\, and more!\n\nYou can get involved by purchasing tickets or tables\, making a financial contribution\, becoming an event sponsor\, volunteering\, or donating auction items.\n\nFormal attire is admired but not required.
X-ALT-DESC;FMTTYPE=text/html:<h5 style="text-align:center"><span style="color:rgb(12\, 113\, 195)\; font-size:xx-large"><strong>For the Kids! Power in Possibilities</strong></span></h5>\n\n<h5 style="text-align:center"><span style="color:rgb(12\, 113\, 195)\; font-size:xx-large"><strong>April 25\, 2025 | 5:00pm</strong></span></h5>\n\n<h5 style="text-align:center"><span style="color:rgb(12\, 113\, 195)\; font-size:xx-large"><strong>The Depot Minneapolis</strong></span></h5>\n\n<div style="background:rgb(255\, 255\, 255)\; border:0px\; padding:0px">\n<p>Every young person has the power within to discover their passions and interests\, grow as individuals\, and achieve their goals.&nbsp\;<strong>For the Kids! Power in Possibilities</strong>&nbsp\;will showcase the many ways in which Club members have ignited their own power as they create a path toward a successful future.</p>\n\n<p><strong>For the Kids!</strong>&nbsp\;provides an opportunity for us to come together to celebrate Club youth while raising funds that support Club members in achieving our North Star Goal:&nbsp\;<strong>all members on track for a successful future beyond high school graduation.</strong></p>\n\n<p>This year&rsquo\;s For the Kids! will feature Club teens sharing their Changemaker Challenge projects\, remarks from BGCTC&rsquo\;s Youth of the Year\, a Club youth performance\, premier silent and live auctions\, and more!</p>\n\n<p>You can get involved by purchasing tickets or tables\, making a financial contribution\, becoming an event sponsor\, volunteering\, or donating auction items.</p>\n\n<p><em>Formal attire is admired but not required.</em></p>\n</div>\n
LOCATION:The Depot Minneapolis 225 3rd Ave S\, Minneapolis\, MN 55401
UID:e.32.32272
SEQUENCE:3
DTSTAMP:20260421T121802Z
URL:http://business.elkriverchamber.org/events/details/boys-girls-clubs-of-the-twin-cities-for-the-kids-gala-poower-in-possibilities-32272
END:VEVENT

END:VCALENDAR
