BEGIN:VCALENDAR
VERSION:2.0
PRODID:-//ChamberMaster//Event Calendar 2.0//EN
METHOD:PUBLISH
X-PUBLISHED-TTL:P3D
REFRESH-INTERVAL:P3D
CALSCALE:GREGORIAN
BEGIN:VEVENT
DTSTART:20261014T013000Z
DTEND:20261014T024500Z
X-MICROSOFT-CDO-ALLDAYEVENT:FALSE
SUMMARY:CHAMBER CONNECTIONS
DESCRIPTION:Chamber Connections Networking Group\n\nChamber Connections is a dynamic weekly networking opportunity designed to help local business professionals build meaningful relationships\, share referrals\, and grow their businesses together. This welcoming group brings together like-minded entrepreneurs\, leaders\, and community members who value collaboration and connection.\n\nMeeting Schedule\n\nChamber Connections meets every Tuesday morning from 8:30 AM to 9:45 AM\, providing a consistent and convenient time to connect before the workday begins.\n\nWho Can Attend\n\nThis sponsored networking program is open to all chamber members. Non-members are also invited to attend and experience the group while learning more about the chamber?s programs\, benefits\, and community impact. Guests may attend up to two meetings before deciding on membership.\n\nAttendance & Commitment\n\nThere is no requirement to attend every meeting. While attendance is tracked\, there are no mandatory participation rules. As with any networking opportunity\, consistent attendance helps strengthen relationships and maximize value?but members are encouraged to attend as often as their schedule allows.\n\nIndustry Representation\n\nThere are no limits by industry or business category\, making Chamber Connections an inclusive environment where a wide range of professionals can collaborate\, refer business\, and support one another.\n\nWhy Attend?\n\n\n	\n	Build strong\, local business relationships\n	\n	\n	Increase visibility within the community\n	\n	\n	Exchange referrals and ideas\n	\n	\n	Learn more about chamber opportunities\n	\n\n\nCome as you are\, connect authentically\, and grow alongside fellow business professionals at Chamber Connections.
X-ALT-DESC;FMTTYPE=text/html:<h3 style="background-color: rgb(255\, 255\, 255)\; font-weight: normal\; line-height: 1.2\; color: rgb(51\, 51\, 51)\; font-family: sans-serif\, Arial\, Verdana\, &quot\;Trebuchet MS&quot\;\;"><span style="font-size: 16px\;"><span style="font-family: arial\;"><strong>Chamber Connections Networking Group</strong></span></span></h3>\n\n<p style="background-color: rgb(255\, 255\, 255)\; color: rgb(51\, 51\, 51)\; font-family: sans-serif\, Arial\, Verdana\, &quot\;Trebuchet MS&quot\;\; font-size: 14px\;"><span style="font-size: 16px\;"><span style="font-family: arial\;"><strong>Chamber Connections</strong>&nbsp\;is a dynamic weekly networking opportunity designed to help local business professionals build meaningful relationships\, share referrals\, and grow their businesses together. This welcoming group brings together like-minded entrepreneurs\, leaders\, and community members who value collaboration and connection.</span></span></p>\n\n<p style="background-color: rgb(255\, 255\, 255)\; color: rgb(51\, 51\, 51)\; font-family: sans-serif\, Arial\, Verdana\, &quot\;Trebuchet MS&quot\;\; font-size: 14px\;"><span style="font-size: 16px\;"><span style="font-family: arial\;"><strong>Meeting Schedule</strong><br />\nChamber Connections meets&nbsp\;<strong>every Tuesday morning from 8:30 AM to 9:45 AM</strong>\, providing a consistent and convenient time to connect before the workday begins.</span></span></p>\n\n<p style="background-color: rgb(255\, 255\, 255)\; color: rgb(51\, 51\, 51)\; font-family: sans-serif\, Arial\, Verdana\, &quot\;Trebuchet MS&quot\;\; font-size: 14px\;"><span style="font-size: 16px\;"><span style="font-family: arial\;"><strong>Who Can Attend</strong><br />\nThis sponsored networking program is open to&nbsp\;<strong>all chamber members</strong>. Non-members are also invited to attend and experience the group while learning more about the chamber?s programs\, benefits\, and community impact. Guests may attend&nbsp\;<strong>up to two meetings</strong>&nbsp\;before deciding on membership.</span></span></p>\n\n<p style="background-color: rgb(255\, 255\, 255)\; color: rgb(51\, 51\, 51)\; font-family: sans-serif\, Arial\, Verdana\, &quot\;Trebuchet MS&quot\;\; font-size: 14px\;"><span style="font-size: 16px\;"><span style="font-family: arial\;"><strong>Attendance &amp\; Commitment</strong><br />\nThere is&nbsp\;<strong>no requirement to attend every meeting</strong>. While attendance is tracked\, there are no mandatory participation rules. As with any networking opportunity\, consistent attendance helps strengthen relationships and maximize value?but members are encouraged to attend as often as their schedule allows.</span></span></p>\n\n<p style="background-color: rgb(255\, 255\, 255)\; color: rgb(51\, 51\, 51)\; font-family: sans-serif\, Arial\, Verdana\, &quot\;Trebuchet MS&quot\;\; font-size: 14px\;"><span style="font-size: 16px\;"><span style="font-family: arial\;"><strong>Industry Representation</strong><br />\nThere are&nbsp\;<strong>no limits by industry or business category</strong>\, making Chamber Connections an inclusive environment where a wide range of professionals can collaborate\, refer business\, and support one another.</span></span></p>\n\n<p style="background-color: rgb(255\, 255\, 255)\; color: rgb(51\, 51\, 51)\; font-family: sans-serif\, Arial\, Verdana\, &quot\;Trebuchet MS&quot\;\; font-size: 14px\;"><span style="font-size: 16px\;"><span style="font-family: arial\;"><strong>Why Attend?</strong></span></span></p>\n\n<ul style="background-color: rgb(255\, 255\, 255)\; padding: 0px 40px\; color: rgb(51\, 51\, 51)\; font-family: sans-serif\, Arial\, Verdana\, &quot\;Trebuchet MS&quot\;\; font-size: 14px\;">\n	<li>\n	<p><span style="font-size: 16px\;"><span style="font-family: arial\;">Build strong\, local business relationships</span></span></p>\n	</li>\n	<li>\n	<p><span style="font-size: 16px\;"><span style="font-family: arial\;">Increase visibility within the community</span></span></p>\n	</li>\n	<li>\n	<p><span style="font-size: 16px\;"><span style="font-family: arial\;">Exchange referrals and ideas</span></span></p>\n	</li>\n	<li>\n	<p><span style="font-size: 16px\;"><span style="font-family: arial\;">Learn more about chamber opportunities</span></span></p>\n	</li>\n</ul>\n\n<p style="background-color: rgb(255\, 255\, 255)\; color: rgb(51\, 51\, 51)\; font-family: sans-serif\, Arial\, Verdana\, &quot\;Trebuchet MS&quot\;\; font-size: 14px\;"><span style="font-size: 16px\;"><span style="font-family: arial\;">Come as you are\, connect authentically\, and grow alongside fellow business professionals at Chamber Connections.</span></span></p>\n
LOCATION:Training Center of Keller Williams Realty Integrity Northwest 16201 90th St NE Suite 100 Otsego
UID:e.32.33090
SEQUENCE:3
DTSTAMP:20260421T043726Z
URL:http://business.elkriverchamber.org/events/details/chamber-connections-10-13-2026-33090
END:VEVENT

END:VCALENDAR
