BEGIN:VCALENDAR
VERSION:2.0
PRODID:-//ChamberMaster//Event Calendar 2.0//EN
METHOD:PUBLISH
X-PUBLISHED-TTL:P3D
REFRESH-INTERVAL:P3D
CALSCALE:GREGORIAN
BEGIN:VEVENT
DTSTART:20260623T143000Z
DTEND:20260625T163000Z
X-MICROSOFT-CDO-ALLDAYEVENT:FALSE
SUMMARY:Church of Hope VBS 2026
DESCRIPTION:June 23-25th from 9:30-11:30am at Spectrum High School. Church of Hope's "Thy Kingdom" VBS is for kids 4 years old through those finishing 5th grade this school year. Join us for three days of worship\, crafts\, skits\, scripture memory\, snacks and Bible lessons all centered around the Kingdom. Please help us plan well for this event by signing your kids up here: https://coh.breezechms.com/form/VBS2026
X-ALT-DESC;FMTTYPE=text/html:June 23-25th from 9:30-11:30am at Spectrum High School. Church of Hope&#39\;s &quot\;Thy Kingdom&quot\; VBS is for kids 4 years old through those finishing 5th grade this school year. Join us for three days of worship\, crafts\, skits\, scripture memory\, snacks and Bible lessons all centered around the Kingdom. Please help us plan well for this event by signing your kids up here: https://coh.breezechms.com/form/VBS2026
LOCATION:Spectrum High School
UID:e.32.33331
SEQUENCE:3
DTSTAMP:20260425T210600Z
URL:http://business.elkriverchamber.org/events/details/church-of-hope-vbs-2026-33331
END:VEVENT

END:VCALENDAR
