BEGIN:VCALENDAR
VERSION:2.0
PRODID:-//ChamberMaster//Event Calendar 2.0//EN
METHOD:PUBLISH
X-PUBLISHED-TTL:P3D
REFRESH-INTERVAL:P3D
CALSCALE:GREGORIAN
BEGIN:VEVENT
DTSTART:20130305T000000Z
DTEND:20130305T040000Z
X-MICROSOFT-CDO-ALLDAYEVENT:FALSE
SUMMARY:Community Mondays at Rockwoods (Benefiting the Land of Lakes Choirboys)
DESCRIPTION:Please come and support this fundraising event that is without a doubt a favorite amongst our supporters!  Eat at Rockwoods between 6-10pm and up to 30% of the proceeds go directly to the Land of Lakes Choirboys.  The more people that join us for dinner that day\, the higher the percentage donation the LOLCB receives!
X-ALT-DESC;FMTTYPE=text/html:Please come and support this fundraising event that is without a doubt a favorite amongst our supporters!&nbsp\; Eat at Rockwoods between 6-10pm and up to 30% of the proceeds go directly to the Land of Lakes Choirboys.&nbsp\; The more people that join us for dinner that day\, the higher the percentage donation the LOLCB receives!
LOCATION:Rockwoods Grill and Banquet Center\, 9100 Quaday Ave NE\, Otsego\, Minnesota 55330
UID:e.32.6741
SEQUENCE:3
DTSTAMP:20260421T103349Z
URL:http://business.elkriverchamber.org/events/details/community-mondays-at-rockwoods-benefiting-the-land-of-lakes-choirboys-03-04-2013-6741
END:VEVENT

END:VCALENDAR
