BEGIN:VCALENDAR
VERSION:2.0
PRODID:-//ChamberMaster//Event Calendar 2.0//EN
METHOD:PUBLISH
X-PUBLISHED-TTL:P3D
REFRESH-INTERVAL:P3D
CALSCALE:GREGORIAN
BEGIN:VEVENT
DTSTART:20250503T150000Z
DTEND:20250503T180000Z
X-MICROSOFT-CDO-ALLDAYEVENT:FALSE
SUMMARY:Construction & Trades Career Fair
DESCRIPTION:The largest challenge for the construction industry as a whole is finding\, developing and retaining a qualified workforce. Each year\, we gather construction companies\, technical education schools\, construction materials and equipment providers to share the many various great careers the construction industry has to offer.\n\n \nThis is a great Saturday event for parents and students to talk to local businesses about working in the trades. There will be employment opportunities\, apprenticeship and college information and hands-on activities for all.
X-ALT-DESC;FMTTYPE=text/html:<span style="font-size:16px\;"><span style="font-family:arial\;"><span style="background-color: rgb(255\, 255\, 255)\;">The largest challenge for the construction industry as a whole is finding\, developing and retaining a qualified workforce. Each year\, we gather construction companies\, technical education schools\, construction materials and equipment providers to share the many various great careers the construction industry has to offer.</span></span></span><br />\n&nbsp\;\n<div style="color: rgb(34\, 34\, 34)\; font-family: Aptos\; font-size: 16px\; background-color: rgb(255\, 255\, 255)\;"><span style="font-size:16px\;"><span style="font-family:arial\;">This is a great Saturday event for parents and students to talk to local businesses about working in the trades. There will be employment opportunities\, apprenticeship and college information and hands-on activities for all.&nbsp\;</span></span></div>\n
LOCATION:ERX Motor Park 21591 US-169 Elk River
UID:e.32.32428
SEQUENCE:3
DTSTAMP:20260421T211706Z
URL:http://business.elkriverchamber.org/events/details/construction-trades-career-fair-32428
END:VEVENT

END:VCALENDAR
