BEGIN:VCALENDAR
VERSION:2.0
PRODID:-//ChamberMaster//Event Calendar 2.0//EN
METHOD:PUBLISH
X-PUBLISHED-TTL:P3D
REFRESH-INTERVAL:P3D
CALSCALE:GREGORIAN
BEGIN:VEVENT
DTSTART:20250612T153000Z
DTEND:20250612T161500Z
X-MICROSOFT-CDO-ALLDAYEVENT:FALSE
SUMMARY:Entertainment in the Park
DESCRIPTION:John Kerns is a talented musician who uses several guitars\, foot-percussion stomp-boxes\, looping pedals\, and multiple microphones. He performs in the Acoustic Rock for Kids program all over the Twin Cities area.
X-ALT-DESC;FMTTYPE=text/html:John Kerns is a talented musician who uses several guitars\, foot-percussion stomp-boxes\, looping pedals\, and multiple microphones. He performs in the Acoustic Rock for Kids program all over the Twin Cities area.
LOCATION:Woodland Trails Regional Park 20135 Elk Lake Rd Elk River\, MN 55330
UID:e.32.32399
SEQUENCE:3
DTSTAMP:20260421T230532Z
URL:http://business.elkriverchamber.org/events/details/entertainment-in-the-park-06-12-2025-32399
END:VEVENT

END:VCALENDAR
