BEGIN:VCALENDAR
VERSION:2.0
PRODID:-//ChamberMaster//Event Calendar 2.0//EN
METHOD:PUBLISH
X-PUBLISHED-TTL:P3D
REFRESH-INTERVAL:P3D
CALSCALE:GREGORIAN
BEGIN:VEVENT
DTSTART:20250626T153000Z
DTEND:20250626T161500Z
X-MICROSOFT-CDO-ALLDAYEVENT:FALSE
SUMMARY:Entertainment in the Park
DESCRIPTION:Learn all about snakes\, including their diet\, habitat\, and defense mechanisms. At the end of the show\, there will be time for those who want an up-close look and the option to handle some of the snakes.
X-ALT-DESC;FMTTYPE=text/html:Learn all about snakes\, including their diet\, habitat\, and defense mechanisms. At the end of the show\, there will be time for those who want an up-close look and the option to handle some of the snakes.
LOCATION:Woodland Trails Regional Park 20135 Elk Lake Rd\, Elk River\, MN 55330
UID:e.32.32402
SEQUENCE:3
DTSTAMP:20260421T214835Z
URL:http://business.elkriverchamber.org/events/details/entertainment-in-the-park-06-26-2025-32402
END:VEVENT

END:VCALENDAR
