BEGIN:VCALENDAR
VERSION:2.0
PRODID:-//ChamberMaster//Event Calendar 2.0//EN
METHOD:PUBLISH
X-PUBLISHED-TTL:P3D
REFRESH-INTERVAL:P3D
CALSCALE:GREGORIAN
BEGIN:VEVENT
DTSTART:20261003T140000Z
DTEND:20261003T200000Z
X-MICROSOFT-CDO-ALLDAYEVENT:FALSE
SUMMARY:Fall Makers Market
DESCRIPTION:Variety of local artists and crafters
X-ALT-DESC;FMTTYPE=text/html:Variety of local artists and crafters
LOCATION:Furniture and Things Community Event Center
UID:e.32.33050
SEQUENCE:3
DTSTAMP:20260421T024801Z
URL:http://business.elkriverchamber.org/events/details/fall-makers-market-10-03-2026-33050
END:VEVENT

END:VCALENDAR
