BEGIN:VCALENDAR
VERSION:2.0
PRODID:-//ChamberMaster//Event Calendar 2.0//EN
METHOD:PUBLISH
X-PUBLISHED-TTL:P3D
REFRESH-INTERVAL:P3D
CALSCALE:GREGORIAN
BEGIN:VEVENT
DTSTART:20250429T140000Z
DTEND:20250429T161500Z
X-MICROSOFT-CDO-ALLDAYEVENT:FALSE
SUMMARY:Free OSHA-approved training on Chemical Hazards and Hazard Communication
DESCRIPTION:Don't miss this essential OSHA-approved training opportunity!\n\nElk River Municipal Utilities\, in partnership with the Minnesota Municipal Utilities Association\, is offering a FREE OSHA-approved training on Chemical Hazards and Hazard Communication on Tuesday\, April 29.\n\n \n\nSESSION INFORMATION\n\nSession 1 | 60-minute main session: Learn the basics of working safely with hazardous chemicals and how to protect yourself from chemical hazards.\n\nSession 2 | Advanced train-the-trainer session (optional): Designed for business owners and supervisors to understand their responsibilities and meet OSHA expectations.\n\n \n\nEVENT DETAILS\n\nLocation:             Elk River Municipal Utilities Field Services Building\n\n1435 Main Street\, Elk River\, MN\n\n \n\nDate/Time:        Tuesday\, April 29\n\nSession 1 (main session for all): 9:00 a.m.   10:00 a.m.\n\nSession 2 (optional advanced session for business owners/supervisors): 10:15 a.m.   11:15 a.m.\n\n \n\nREGISTER NOW\n\nClick here to register or contact jfoss@ermumn.com for more information.\n\n \n\nThis is a valuable opportunity to ensure workplace safety   and it's completely free!
X-ALT-DESC;FMTTYPE=text/html:<span style="font-size:16px\;"><span style="font-family:arial\;"><strong>Don&rsquo\;t miss this essential OSHA-approved training opportunity!</strong><br />\nElk River Municipal Utilities\, in partnership with the Minnesota Municipal Utilities Association\, is offering a FREE OSHA-approved training on Chemical Hazards and Hazard Communication on Tuesday\, April 29.<br />\n&nbsp\;<br />\n<strong><u>SESSION INFORMATION</u></strong><br />\n<strong>Session 1 | 60-minute main session:</strong>&nbsp\;Learn the basics of working safely with hazardous chemicals and how to protect yourself from chemical hazards.<br />\n<strong>Session 2 | Advanced train-the-trainer session (optional):</strong>&nbsp\;Designed for business owners and supervisors to understand their responsibilities and meet OSHA expectations.<br />\n&nbsp\;<br />\n<strong><u>EVENT DETAILS</u></strong><br />\n<strong>Location:</strong>&nbsp\;&nbsp\;&nbsp\;&nbsp\;&nbsp\;&nbsp\;&nbsp\;&nbsp\;&nbsp\;&nbsp\;&nbsp\;&nbsp\; Elk River Municipal Utilities Field Services Building<br />\n1435 Main Street\, Elk River\, MN<br />\n&nbsp\;<br />\n<strong>Date/Time:</strong>&nbsp\;&nbsp\;&nbsp\;&nbsp\;&nbsp\;&nbsp\;&nbsp\;&nbsp\;Tuesday\, April 29<br />\nSession 1 (main session for all): 9:00 a.m. &ndash\; 10:00 a.m.<br />\nSession 2 (optional advanced session for business owners/supervisors): 10:15 a.m. &ndash\; 11:15 a.m.<br />\n&nbsp\;<br />\n<strong><u>REGISTER NOW</u></strong><br />\n<a data-saferedirecturl="https://www.google.com/url?q=https://forms.office.com/r/U74PP522wL&amp\;source=gmail&amp\;ust=1743104087352000&amp\;usg=AOvVaw3ldTo2wH2j4mki0crb6ADQ" href="https://forms.office.com/r/U74PP522wL" style="color:rgb(17\, 85\, 204)\;" target="_blank">Click here to register</a>&nbsp\;or contact&nbsp\;<a href="mailto:jfoss@ermumn.com" style="color:rgb(17\, 85\, 204)\;" target="_blank">jfoss@ermumn.com</a>&nbsp\;for more information.<br />\n&nbsp\;<br />\n<strong>This is a valuable opportunity to ensure workplace safety &ndash\; and it&rsquo\;s completely free!</strong></span></span>
LOCATION:Elk River Municipal Utilities Field Services Building 1435 Main Street\, Elk River
UID:e.32.32425
SEQUENCE:3
DTSTAMP:20260419T133124Z
URL:http://business.elkriverchamber.org/events/details/free-osha-approved-training-on-chemical-hazards-and-hazard-communication-32425
END:VEVENT

END:VCALENDAR
