BEGIN:VCALENDAR
VERSION:2.0
PRODID:-//ChamberMaster//Event Calendar 2.0//EN
METHOD:PUBLISH
X-PUBLISHED-TTL:P3D
REFRESH-INTERVAL:P3D
CALSCALE:GREGORIAN
BEGIN:VEVENT
DTSTART;VALUE=DATE:20250426
DTEND;VALUE=DATE:20250427
TRANSP:TRANSPARENT
X-MICROSOFT-CDO-ALLDAYEVENT:TRUE
SUMMARY:Free Park Day in MN Parks
DESCRIPTION:FREE PARK DAY IN MINNESOTA\n\nWhen: Saturday\, April 26\, 2025 \n\nWhere: All Minnesota state parks and state recreation areas.\n\nInfo: On four days each year\, all Minnesota state parks and state recreation areas offer free admission to everyone ? no vehicle permits needed. Minnesota state parks are open year-round\, and there's a state park within 30 miles of most Minnesotans. The entrance fee waiver for fee-free days does not cover amenity or user fees for activities like camping\, rentals\, or special tours. The goal is to encourage families and friends to spend time together in nature. To find a state park\, go to MN Park Finder
X-ALT-DESC;FMTTYPE=text/html:<p class="abody" style="margin: 10px 15px 0px 0px\; padding: 0px 10px\; font-family: &quot\;Noto Serif&quot\;\; font-size: 16px\; color: rgb(51\, 51\, 51)\; line-height: 1.5em\; overflow: hidden\; text-overflow: ellipsis\; background-color: rgb(255\, 255\, 255)\;"><span style="margin: 0px\; padding: 0px\; font-family: &quot\;Noto Serif Bold&quot\;\; line-height: normal\; -webkit-font-smoothing: antialiased\; font-weight: bold\;">FREE PARK DAY IN MINNESOTA<br />\nWhen:</span><span class="Fid_6" style="margin: 0px\; padding: 0px\; line-height: normal\;">&nbsp\;Saturday\, April 26\, 2025&nbsp\;</span><br />\n<span style="margin: 0px\; padding: 0px\; font-family: &quot\;Noto Serif Bold&quot\;\; line-height: normal\; -webkit-font-smoothing: antialiased\; font-weight: bold\;">Where:</span><span class="Fid_6" style="margin: 0px\; padding: 0px\; line-height: normal\;">&nbsp\;All Minnesota state parks and state recreation areas.</span></p>\n\n<p class="abody" style="margin: 10px 15px 0px 0px\; padding: 0px 10px\; font-family: &quot\;Noto Serif&quot\;\; font-size: 16px\; color: rgb(51\, 51\, 51)\; line-height: 1.5em\; overflow: hidden\; text-overflow: ellipsis\; background-color: rgb(255\, 255\, 255)\;"><span style="margin: 0px\; padding: 0px\; font-family: &quot\;Noto Serif Bold&quot\;\; line-height: normal\; -webkit-font-smoothing: antialiased\; font-weight: bold\;">Info:</span><span class="Fid_6" style="margin: 0px\; padding: 0px\; line-height: normal\;">&nbsp\;On four days each year\, all Minnesota state parks and state recreation areas offer free admission to everyone ? no vehicle permits needed. Minnesota state parks are open year-round\, and there&#39\;s a state park within 30 miles of most Minnesotans. The entrance fee waiver for fee-free days does not cover amenity&nbsp\;or user fees for activities like camping\, rentals\, or special tours. The goal is to encourage families and friends to spend time together in nature. To find a state park\, go to <a href="https://www.dnr.state.mn.us/parkfinder/index.html">MN Park Finder</a></span></p>\n
LOCATION:
UID:e.32.32207
SEQUENCE:3
DTSTAMP:20260421T121351Z
URL:http://business.elkriverchamber.org/events/details/free-park-day-in-mn-parks-32207
END:VEVENT

END:VCALENDAR
