BEGIN:VCALENDAR
VERSION:2.0
PRODID:-//ChamberMaster//Event Calendar 2.0//EN
METHOD:PUBLISH
X-PUBLISHED-TTL:P3D
REFRESH-INTERVAL:P3D
CALSCALE:GREGORIAN
BEGIN:VEVENT
DTSTART:20261128T150000Z
DTEND:20261128T210000Z
X-MICROSOFT-CDO-ALLDAYEVENT:FALSE
SUMMARY:Holiday Makers Market
DESCRIPTION:The perfect place to shop for a holiday gift\, featuring local crafters and artisans.
X-ALT-DESC;FMTTYPE=text/html:The perfect place to shop for a holiday gift\, featuring local crafters and artisans.
LOCATION:Furniture and Things Community Event Center
UID:e.32.33051
SEQUENCE:3
DTSTAMP:20260421T010632Z
URL:http://business.elkriverchamber.org/events/details/holiday-makers-market-11-28-2026-33051
END:VEVENT

END:VCALENDAR
