BEGIN:VCALENDAR
VERSION:2.0
PRODID:-//ChamberMaster//Event Calendar 2.0//EN
METHOD:PUBLISH
X-PUBLISHED-TTL:P3D
REFRESH-INTERVAL:P3D
CALSCALE:GREGORIAN
BEGIN:VEVENT
DTSTART:20250209T010000Z
DTEND:20250209T030000Z
X-MICROSOFT-CDO-ALLDAYEVENT:FALSE
SUMMARY:Live at Lupulin
DESCRIPTION:Live Music at Lupulin\n\nCome check out some great live music in our taproom! With a variety of genres on the schedule\, we've got something for everyone.\n\n\n\nFeb. 8th Axel and Better 7-9pm\n\nFeb. 14th Matt Lefler 6-9pm\n\nFeb. 15th Reece Glover 6-9pm\n\nFeb. 21st Kurt Bearinger 6-9pm
X-ALT-DESC;FMTTYPE=text/html:Live Music at Lupulin<br />\nCome check out some great live music in our taproom! With a variety of genres on the schedule\, we&#39\;ve got something for everyone.<br />\n<br />\nFeb. 8th Axel and Better 7-9pm<br />\nFeb. 14th Matt Lefler 6-9pm<br />\nFeb. 15th Reece Glover 6-9pm<br />\nFeb. 21st Kurt Bearinger 6-9pm
LOCATION:Lupulin Brewing 570 Humboldt Dr Suite 107\, Big Lake\, MN 55309
UID:e.32.32283
SEQUENCE:3
DTSTAMP:20260421T135406Z
URL:http://business.elkriverchamber.org/events/details/live-at-lupulin-32283
END:VEVENT

END:VCALENDAR
