BEGIN:VCALENDAR
VERSION:2.0
PRODID:-//ChamberMaster//Event Calendar 2.0//EN
METHOD:PUBLISH
X-PUBLISHED-TTL:P3D
REFRESH-INTERVAL:P3D
CALSCALE:GREGORIAN
BEGIN:VEVENT
DTSTART:20250216T010000Z
DTEND:20250216T030000Z
X-MICROSOFT-CDO-ALLDAYEVENT:FALSE
SUMMARY:LIVE Music at Lupulin Brewing
DESCRIPTION:Come check out some great live music in our taproom!  With a variety of genres on the schedule\, we've got something for everyone.\n\n\n\nFeb 15th\, 6-9 PM - Reece Glover\n\nFeb 21st\, 6-9 PM - Kurt Bearinger
X-ALT-DESC;FMTTYPE=text/html:<span style="font-family:helvetica\,sans-serif\;"><span style="font-size:10.5pt\;">Come check out some great live music in our taproom! &nbsp\;With a variety of genres on the schedule\, we&#39\;ve got something for everyone.</span></span><br />\n<br />\n<span style="font-size: 10.5pt\; font-family: Helvetica\, sans-serif\;">Feb 15th\,&nbsp\;6-9 PM - <a href="https://lupulinbrewing.us8.list-manage.com/track/click?u=bee622aafc8ec22419fd0f93b&amp\;id=07ba9c66ff&amp\;e=35c6bf5920" style="-ms-text-size-adjust: 100%\;-webkit-text-size-adjust: 100%" target="_blank"><strong><span style="color: rgb(0\, 124\, 137)\;">Reece Glover</span></strong></a><br />\nFeb 21st\,&nbsp\;6-9 PM - <a href="https://lupulinbrewing.us8.list-manage.com/track/click?u=bee622aafc8ec22419fd0f93b&amp\;id=c2e899836d&amp\;e=35c6bf5920" style="-ms-text-size-adjust: 100%\;-webkit-text-size-adjust: 100%" target="_blank"><strong><span style="color: rgb(0\, 124\, 137)\;">Kurt Bearinger</span></strong></a></span>
LOCATION:Lupulin Brewing 570 Humboldt Dr Suite 107\, Big Lake\, MN 55309
UID:e.32.32285
SEQUENCE:3
DTSTAMP:20260421T085557Z
URL:http://business.elkriverchamber.org/events/details/live-music-at-lupulin-brewing-32285
END:VEVENT

END:VCALENDAR
