BEGIN:VCALENDAR
VERSION:2.0
PRODID:-//ChamberMaster//Event Calendar 2.0//EN
METHOD:PUBLISH
X-PUBLISHED-TTL:P3D
REFRESH-INTERVAL:P3D
CALSCALE:GREGORIAN
BEGIN:VEVENT
DTSTART:20250624T223000Z
DTEND:20250625T013000Z
X-MICROSOFT-CDO-ALLDAYEVENT:FALSE
SUMMARY:LIve Music from the Loons
DESCRIPTION:Live music on the patio (moved inside if the weather doesn't cooperate)
X-ALT-DESC;FMTTYPE=text/html:<span style="font-size:16px\;"><span style="font-family:arial\;"><span style="color: rgb(8\, 8\, 9)\; background-color: rgb(255\, 255\, 255)\;">Live music on the patio (moved inside if the weather doesn&#39\;t cooperate)</span></span></span>
LOCATION:Aegir Brewing 19050 Industrial Blvd. Elk River
UID:e.32.32612
SEQUENCE:3
DTSTAMP:20260421T214832Z
URL:http://business.elkriverchamber.org/events/details/live-music-from-the-loons-32612
END:VEVENT

END:VCALENDAR
