BEGIN:VCALENDAR
VERSION:2.0
PRODID:-//ChamberMaster//Event Calendar 2.0//EN
METHOD:PUBLISH
X-PUBLISHED-TTL:P3D
REFRESH-INTERVAL:P3D
CALSCALE:GREGORIAN
BEGIN:VEVENT
DTSTART;VALUE=DATE:20250528
DTEND;VALUE=DATE:20250601
TRANSP:TRANSPARENT
X-MICROSOFT-CDO-ALLDAYEVENT:TRUE
SUMMARY:Lupulin Brewing Celebrating 10 Years!
DESCRIPTION:click the website for details of all the fun during this 4 day celebration!
X-ALT-DESC;FMTTYPE=text/html:click the website for details of all the fun during this 4 day celebration!
LOCATION:Lupulin Brewing 570 Humboldt Dr. #107 Big Lake\, MN 570 Humboldt Dr. #107 Big Lak570 Humboldt Dr. #107 Big Lake\, MN 55309e\, MN 55309
UID:e.32.32552
SEQUENCE:3
DTSTAMP:20260421T194937Z
URL:http://business.elkriverchamber.org/events/details/lupulin-brewing-celebrating-10-years-32552
END:VEVENT

END:VCALENDAR
