BEGIN:VCALENDAR
VERSION:2.0
PRODID:-//ChamberMaster//Event Calendar 2.0//EN
METHOD:PUBLISH
X-PUBLISHED-TTL:P3D
REFRESH-INTERVAL:P3D
CALSCALE:GREGORIAN
BEGIN:VEVENT
DTSTART:20250605T230000Z
DTEND:20250606T010000Z
X-MICROSOFT-CDO-ALLDAYEVENT:FALSE
SUMMARY:Make & Take Trucker Hat NIght
DESCRIPTION:Let's get crafty and a little sassy! Join us for a Trucker Hat Make & Take Night where you'll design your very own one-of-a-kind hat that screams you. Whether you're feeling bold\, boho\, sparkly\, or snarky\, we'll have a variety of patches\, embellishments\, and design options to make your hat as fabulous as your personality.\n\nNo experience needed we'll guide you through the fun! You'll leave with a custom trucker hat that's ready for all your summer adventures (and compliments). Once you've completed your masterpiece you'll have an opportunity to shop the Boutique with a special discount too!\n\nCost: $30 per person (includes one trucker hat + selected decorating materials)\n\nSpots are limited\, so grab your besties and reserve your spot early!\n\nBring your creativity and maybe your favorite beverage and get ready for a laid-back night of laughs\, style\, and DIY magic.\n\nLet's make something cool together!\n\nPurchase your event ticket on our website now!
X-ALT-DESC;FMTTYPE=text/html:<div class="x11i5rnm xat24cr x1mh8g0r x1vvkbs xtlvy1s" style="margin: 0.5em 0px 0px\; overflow-wrap: break-word\; font-family: &quot\;Segoe UI Historic&quot\;\, &quot\;Segoe UI&quot\;\, Helvetica\, Arial\, sans-serif\; color: rgb(8\, 8\, 9)\; font-size: 15px\; background-color: rgb(255\, 255\, 255)\;"><span style="font-size:16px\;"><span style="font-family:arial\;">Let&rsquo\;s get crafty&mdash\;and a little sassy! Join us for a Trucker Hat Make &amp\; Take Night where you&rsquo\;ll design your very own one-of-a-kind hat that screams you. Whether you&rsquo\;re feeling bold\, boho\, sparkly\, or snarky\, we&rsquo\;ll have a variety of patches\, embellishments\, and design options to make your hat as fabulous as your personality.</span></span></div>\n\n<div class="x11i5rnm xat24cr x1mh8g0r x1vvkbs xtlvy1s" style="margin: 0.5em 0px 0px\; overflow-wrap: break-word\; font-family: &quot\;Segoe UI Historic&quot\;\, &quot\;Segoe UI&quot\;\, Helvetica\, Arial\, sans-serif\; color: rgb(8\, 8\, 9)\; font-size: 15px\; background-color: rgb(255\, 255\, 255)\;"><span style="font-size:16px\;"><span style="font-family:arial\;">No experience needed&mdash\;we&rsquo\;ll guide you through the fun! You&rsquo\;ll leave with a custom trucker hat that&rsquo\;s ready for all your summer adventures (and compliments). Once you&rsquo\;ve completed your masterpiece you&rsquo\;ll have an opportunity to shop the Boutique with a special discount too!</span></span></div>\n\n<div class="x11i5rnm xat24cr x1mh8g0r x1vvkbs xtlvy1s" style="margin: 0.5em 0px 0px\; overflow-wrap: break-word\; font-family: &quot\;Segoe UI Historic&quot\;\, &quot\;Segoe UI&quot\;\, Helvetica\, Arial\, sans-serif\; color: rgb(8\, 8\, 9)\; font-size: 15px\; background-color: rgb(255\, 255\, 255)\;"><span style="font-size:16px\;"><span style="font-family:arial\;">Cost: $30 per person (includes one trucker hat + selected decorating materials)</span></span></div>\n\n<div class="x11i5rnm xat24cr x1mh8g0r x1vvkbs xtlvy1s" style="margin: 0.5em 0px 0px\; overflow-wrap: break-word\; font-family: &quot\;Segoe UI Historic&quot\;\, &quot\;Segoe UI&quot\;\, Helvetica\, Arial\, sans-serif\; color: rgb(8\, 8\, 9)\; font-size: 15px\; background-color: rgb(255\, 255\, 255)\;"><span style="font-size:16px\;"><span style="font-family:arial\;">Spots are limited\, so grab your besties and reserve your spot early!</span></span></div>\n\n<div class="x11i5rnm xat24cr x1mh8g0r x1vvkbs xtlvy1s" style="margin: 0.5em 0px 0px\; overflow-wrap: break-word\; font-family: &quot\;Segoe UI Historic&quot\;\, &quot\;Segoe UI&quot\;\, Helvetica\, Arial\, sans-serif\; color: rgb(8\, 8\, 9)\; font-size: 15px\; background-color: rgb(255\, 255\, 255)\;"><span style="font-size:16px\;"><span style="font-family:arial\;">Bring your creativity&mdash\;and maybe your favorite beverage&mdash\;and get ready for a laid-back night of laughs\, style\, and DIY magic.<br class="html-br" />\nLet&rsquo\;s make something cool together!</span></span></div>\n\n<div class="x11i5rnm xat24cr x1mh8g0r x1vvkbs xtlvy1s" style="margin: 0.5em 0px 0px\; overflow-wrap: break-word\; font-family: &quot\;Segoe UI Historic&quot\;\, &quot\;Segoe UI&quot\;\, Helvetica\, Arial\, sans-serif\; color: rgb(8\, 8\, 9)\; font-size: 15px\; background-color: rgb(255\, 255\, 255)\;"><span style="font-size:16px\;"><span style="font-family:arial\;"><a href="https://www.allisonsaddicts.com/products/trucker-hat-make-take-event?fbclid=IwY2xjawKY4v9leHRuA2FlbQIxMABicmlkETFHN3BCakJhWTNkNGpISXAzAR5wHD1tw3P6qOcmD_r_LnTNZzcqij8bCD7I9Wz1_jD0oBzgQLJbodQgceVqlA_aem_Otra4UT1T58vJq9RbDAhEA">Purchase your event ticket on our website now!</a></span></span><br />\n&nbsp\;</div>\n
LOCATION:Allison's Addicts Boutique 314 Jackson Ave NW\, Elk River
UID:e.32.32546
SEQUENCE:3
DTSTAMP:20260421T213523Z
URL:http://business.elkriverchamber.org/events/details/make-take-trucker-hat-night-32546
END:VEVENT

END:VCALENDAR
