BEGIN:VCALENDAR
VERSION:2.0
PRODID:-//ChamberMaster//Event Calendar 2.0//EN
METHOD:PUBLISH
X-PUBLISHED-TTL:P3D
REFRESH-INTERVAL:P3D
CALSCALE:GREGORIAN
BEGIN:VEVENT
DTSTART:20250419T160000Z
DTEND:20250419T190000Z
X-MICROSOFT-CDO-ALLDAYEVENT:FALSE
SUMMARY:Make Your Community Shine
DESCRIPTION:Join us for Make Your Community Shine\, a day dedicated to giving back to our community and enjoying time together! We will work together to clean up Woodland Trails Regional Park\, enjoy delicious free food and drinks (beer for those 21+)\, and celebrate with fun prizes. We got the tools covered\, just come dressed for yard work! Let us know you're coming: https://bit.ly/4gVnSze Elk River Liquor is excited to partner with Shiner Beer for this annual event on Saturday\, April 19 at 11:00 a.m.
X-ALT-DESC;FMTTYPE=text/html:Join us for Make Your Community Shine\, a day dedicated to giving back to our community and enjoying time together! We will work together to clean up Woodland Trails Regional Park\, enjoy delicious free food and drinks (beer for those 21+)\, and celebrate with fun prizes. We got the tools covered\, just come dressed for yard work! Let us know you&rsquo\;re coming: https://bit.ly/4gVnSze Elk River Liquor is excited to partner with Shiner Beer for this annual event on Saturday\, April 19 at 11:00 a.m.
LOCATION:Woodland Trails Regional Park
UID:e.32.32418
SEQUENCE:3
DTSTAMP:20260421T133957Z
URL:http://business.elkriverchamber.org/events/details/make-your-community-shine-04-19-2025-32418
END:VEVENT

END:VCALENDAR
