BEGIN:VCALENDAR
VERSION:2.0
PRODID:-//ChamberMaster//Event Calendar 2.0//EN
METHOD:PUBLISH
X-PUBLISHED-TTL:P3D
REFRESH-INTERVAL:P3D
CALSCALE:GREGORIAN
BEGIN:VEVENT
DTSTART:20241214T170000Z
DTEND:20241214T200000Z
X-MICROSOFT-CDO-ALLDAYEVENT:FALSE
SUMMARY:Meet the GRINCH Event
DESCRIPTION:Get your photo with the Grinch!\n\nMeet Cindy Lou Who!\n\nTreats\, Ornament craft\, Coloring
X-ALT-DESC;FMTTYPE=text/html:Get your photo with the Grinch!<br />\nMeet Cindy Lou Who!<br />\nTreats\, Ornament craft\, Coloring
LOCATION:Edina Realty - Otsego 8690 Parson Ave NE\, Otsego\, MN 55330 near the Target
UID:e.32.32236
SEQUENCE:3
DTSTAMP:20260421T135523Z
URL:http://business.elkriverchamber.org/events/details/meet-the-grinch-event-32236
END:VEVENT

END:VCALENDAR
