BEGIN:VCALENDAR
VERSION:2.0
PRODID:-//ChamberMaster//Event Calendar 2.0//EN
METHOD:PUBLISH
X-PUBLISHED-TTL:P3D
REFRESH-INTERVAL:P3D
CALSCALE:GREGORIAN
BEGIN:VEVENT
DTSTART:20260127T000000Z
DTEND:20260127T020000Z
X-MICROSOFT-CDO-ALLDAYEVENT:FALSE
SUMMARY:Monday Night Bingo @ Zimmerman American Legion
DESCRIPTION:Join us for Bingo every Monday!\n\nE-Races at 5:00 PM (depending on crowd)\n\nGuaranteed $700 Coverall every week!
X-ALT-DESC;FMTTYPE=text/html:<span style="font-family:arial\;"><span style="font-size:16px\;"><span style="color: rgb(8\, 8\, 9)\; background-color: rgb(255\, 255\, 255)\;">Join us for Bingo every Monday!</span><br class="html-br" style="color: rgb(8\, 8\, 9)\; font-family: &quot\;Segoe UI Historic&quot\;\, &quot\;Segoe UI&quot\;\, Helvetica\, Arial\, sans-serif\; font-size: 15px\; background-color: rgb(255\, 255\, 255)\;" />\n<span style="color: rgb(8\, 8\, 9)\; background-color: rgb(255\, 255\, 255)\;">E-Races at 5:00 PM (depending on crowd)</span><br class="html-br" style="color: rgb(8\, 8\, 9)\; font-family: &quot\;Segoe UI Historic&quot\;\, &quot\;Segoe UI&quot\;\, Helvetica\, Arial\, sans-serif\; font-size: 15px\; background-color: rgb(255\, 255\, 255)\;" />\n<span style="color: rgb(8\, 8\, 9)\; background-color: rgb(255\, 255\, 255)\;">Guaranteed $700 Coverall every week!</span></span></span>
LOCATION:American Legion 12674 Freemont Ave Zimmerman
UID:e.32.33106
SEQUENCE:3
DTSTAMP:20260422T030054Z
URL:http://business.elkriverchamber.org/events/details/monday-night-bingo-zimmerman-american-legion-01-26-2026-33106
END:VEVENT

END:VCALENDAR
