BEGIN:VCALENDAR
VERSION:2.0
PRODID:-//ChamberMaster//Event Calendar 2.0//EN
METHOD:PUBLISH
X-PUBLISHED-TTL:P3D
REFRESH-INTERVAL:P3D
CALSCALE:GREGORIAN
BEGIN:VEVENT
DTSTART:20260912T150000Z
DTEND:20260912T160000Z
X-MICROSOFT-CDO-ALLDAYEVENT:FALSE
SUMMARY:Morning at the Museum
DESCRIPTION:Monthly Kids Program at Sherburne History Center\nJoin us on the 2nd Saturday of every month for a fun and educational program designed for kids aged 0-8!\n\n \nEvent Details:\n\nWhen: Every 2nd Saturday of the monthActivities: Themed story time\, craft session\, and snack for kids\n\nFor Parents: Coffee!!\n\n \n\n \n\n \n\nPlease register
X-ALT-DESC;FMTTYPE=text/html:<h2 class="HrEPg CLBxX XxGZC ozAti" dir="auto" style="background-image: initial\; background-position: initial\; background-size: initial\; background-repeat: initial\; background-attachment: initial\; background-origin: initial\; background-clip: initial\; border: 0px\; outline: 0px\; padding: 0px\; vertical-align: baseline\; -webkit-tap-highlight-color: rgba(0\, 0\, 0\, 0)\; font-variant-numeric: inherit\; font-variant-east-asian: inherit\; font-variant-alternates: inherit\; font-variant-position: inherit\; font-variant-emoji: inherit\; font-weight: 400\; font-stretch: inherit\; font-size: 28px\; line-height: 1.5\; font-family: avenir-lt-w01_35-light1475496\, sans-serif\; font-optical-sizing: inherit\; font-size-adjust: inherit\; font-kerning: inherit\; font-feature-settings: inherit\; font-variation-settings: inherit\; min-height: 36px\; box-sizing: inherit\; margin: 0px\; white-space-collapse: preserve\;"><span style="font-size:16px\;"><span style="background-image: initial\; background-position: initial\; background-size: initial\; background-repeat: initial\; background-attachment: initial\; background-origin: initial\; background-clip: initial\; border: 0px\; margin: 0px\; outline: 0px\; padding: 0px\; vertical-align: baseline\; -webkit-tap-highlight-color: rgba(0\, 0\, 0\, 0)\; box-sizing: inherit\;">Monthly Kids Program at Sherburne History Center</span></span></h2>\n<span style="font-size:16px\;"><span style="background-image: initial\; background-position: initial\; background-size: initial\; background-repeat: initial\; background-attachment: initial\; background-origin: initial\; background-clip: initial\; border: 0px\; margin: 0px\; outline: 0px\; padding: 0px\; vertical-align: baseline\; -webkit-tap-highlight-color: rgba(0\, 0\, 0\, 0)\; box-sizing: inherit\;">Join us on the 2nd Saturday of every month for a fun and educational program designed for kids aged 0-8!</span></span><br />\n&nbsp\;\n<h3 class="vOl-o CLBxX XxGZC ozAti" dir="auto" id="viewer-7qroh509" style="background-image: initial\; background-position: initial\; background-size: initial\; background-repeat: initial\; background-attachment: initial\; background-origin: initial\; background-clip: initial\; border: 0px\; outline: 0px\; padding: 0px\; vertical-align: baseline\; -webkit-tap-highlight-color: rgba(0\, 0\, 0\, 0)\; font-variant-numeric: inherit\; font-variant-east-asian: inherit\; font-variant-alternates: inherit\; font-variant-position: inherit\; font-variant-emoji: inherit\; font-weight: 400\; font-stretch: inherit\; font-size: 24px\; line-height: 1.5\; font-family: avenir-lt-w01_35-light1475496\, sans-serif\; font-optical-sizing: inherit\; font-size-adjust: inherit\; font-kerning: inherit\; font-feature-settings: inherit\; font-variation-settings: inherit\; min-height: 30px\; box-sizing: inherit\; margin: 0px\; white-space-collapse: preserve\;"><span style="font-size:16px\;"><span class="ZvZMU" style="background-image: initial\; background-position: initial\; background-size: initial\; background-repeat: initial\; background-attachment: initial\; background-origin: initial\; background-clip: initial\; border: 0px\; margin: 0px\; outline: 0px\; padding: 0px\; vertical-align: baseline\; text-align: initial\; -webkit-tap-highlight-color: rgba(0\, 0\, 0\, 0)\; display: block\; box-sizing: inherit\;"><span style="background-image: initial\; background-position: initial\; background-size: initial\; background-repeat: initial\; background-attachment: initial\; background-origin: initial\; background-clip: initial\; border: 0px\; margin: 0px\; outline: 0px\; padding: 0px\; vertical-align: baseline\; -webkit-tap-highlight-color: rgba(0\, 0\, 0\, 0)\; box-sizing: inherit\;">Event Details:</span></span></span></h3>\n\n<div class="yU1AD eBpBo XxGZC ozAti _9b43l" style="text-align: initial\; list-style-position: outside\; list-style-type: disc\; margin-inline-start: 1.5em\; padding-inline-start: 0.5em\; background-image: initial\; background-position: initial\; background-size: initial\; background-repeat: initial\; background-attachment: initial\; background-origin: initial\; background-clip: initial\; border: 0px\; outline: 0px\; padding: 0px\; vertical-align: baseline\; -webkit-tap-highlight-color: rgba(0\, 0\, 0\, 0)\; line-height: 1.5\; min-height: auto\; text-decoration-style: solid\; text-decoration-color: rgb(0\, 0\, 0)\; box-sizing: inherit\; margin: 0px\;"><span style="font-size:16px\;"><span class="yakoZ" style="background-image: initial\; background-position: initial\; background-size: initial\; background-repeat: initial\; background-attachment: initial\; background-origin: initial\; background-clip: initial\; border: 0px\; margin: 0px\; outline: 0px\; padding: 0px\; vertical-align: baseline\; text-align: initial\; -webkit-tap-highlight-color: rgba(0\, 0\, 0\, 0)\; display: block\; box-sizing: inherit\;"><span style="background-image: initial\; background-position: initial\; background-size: initial\; background-repeat: initial\; background-attachment: initial\; background-origin: initial\; background-clip: initial\; border: 0px\; margin: 0px\; outline: 0px\; padding: 0px\; vertical-align: baseline\; -webkit-tap-highlight-color: rgba(0\, 0\, 0\, 0)\; box-sizing: inherit\; font-weight: 700\;">When:</span><span style="background-image: initial\; background-position: initial\; background-size: initial\; background-repeat: initial\; background-attachment: initial\; background-origin: initial\; background-clip: initial\; border: 0px\; margin: 0px\; outline: 0px\; padding: 0px\; vertical-align: baseline\; -webkit-tap-highlight-color: rgba(0\, 0\, 0\, 0)\; box-sizing: inherit\;"> Every 2nd Saturday of the month</span></span></span><span style="font-size:16px\;"><span class="yakoZ" style="background-image: initial\; background-position: initial\; background-size: initial\; background-repeat: initial\; background-attachment: initial\; background-origin: initial\; background-clip: initial\; border: 0px\; margin: 0px\; outline: 0px\; padding: 0px\; vertical-align: baseline\; text-align: initial\; -webkit-tap-highlight-color: rgba(0\, 0\, 0\, 0)\; display: block\; box-sizing: inherit\;"><span style="background-image: initial\; background-position: initial\; background-size: initial\; background-repeat: initial\; background-attachment: initial\; background-origin: initial\; background-clip: initial\; border: 0px\; margin: 0px\; outline: 0px\; padding: 0px\; vertical-align: baseline\; -webkit-tap-highlight-color: rgba(0\, 0\, 0\, 0)\; box-sizing: inherit\; font-weight: 700\;">Activities:</span><span style="background-image: initial\; background-position: initial\; background-size: initial\; background-repeat: initial\; background-attachment: initial\; background-origin: initial\; background-clip: initial\; border: 0px\; margin: 0px\; outline: 0px\; padding: 0px\; vertical-align: baseline\; -webkit-tap-highlight-color: rgba(0\, 0\, 0\, 0)\; box-sizing: inherit\;"> Themed story time\, craft session\, and snack for kids</span></span></span></div>\n\n<div class="yU1AD eBpBo XxGZC ozAti _9b43l" style="text-align: initial\; list-style-position: outside\; list-style-type: disc\; margin-inline-start: 1.5em\; padding-inline-start: 0.5em\; background-image: initial\; background-position: initial\; background-size: initial\; background-repeat: initial\; background-attachment: initial\; background-origin: initial\; background-clip: initial\; border: 0px\; outline: 0px\; padding: 0px\; vertical-align: baseline\; -webkit-tap-highlight-color: rgba(0\, 0\, 0\, 0)\; line-height: 1.5\; min-height: auto\; text-decoration-style: solid\; text-decoration-color: rgb(0\, 0\, 0)\; box-sizing: inherit\; margin: 0px\;"><span style="font-size:16px\;"><span style="background-image: initial\; background-position: initial\; background-size: initial\; background-repeat: initial\; background-attachment: initial\; background-origin: initial\; background-clip: initial\; border: 0px\; margin: 0px\; outline: 0px\; padding: 0px\; vertical-align: baseline\; -webkit-tap-highlight-color: rgba(0\, 0\, 0\, 0)\; box-sizing: inherit\; font-weight: 700\;">For Parents:</span><span style="background-image: initial\; background-position: initial\; background-size: initial\; background-repeat: initial\; background-attachment: initial\; background-origin: initial\; background-clip: initial\; border: 0px\; margin: 0px\; outline: 0px\; padding: 0px\; vertical-align: baseline\; -webkit-tap-highlight-color: rgba(0\, 0\, 0\, 0)\; box-sizing: inherit\;"> Coffee!!</span></span></div>\n\n<p class="yU1AD eBpBo XxGZC ozAti _9b43l" dir="" style="background-image: initial\; background-position: initial\; background-size: initial\; background-repeat: initial\; background-attachment: initial\; background-origin: initial\; background-clip: initial\; border: 0px\; margin: 0px\; outline: 0px\; padding: 0px\; vertical-align: baseline\; text-align: initial\; -webkit-tap-highlight-color: rgba(0\, 0\, 0\, 0)\; list-style-position: outside\; box-sizing: inherit\; list-style-type: disc\; margin-inline-start: 1.5em\; padding-inline-start: 0.5em\;background-image: initial\; background-position: initial\; background-size: initial\; background-repeat: initial\; background-attachment: initial\; background-origin: initial\; background-clip: initial\; border: 0px\; outline: 0px\; padding: 0px\; vertical-align: baseline\; text-align: initial\; -webkit-tap-highlight-color: rgba(0\, 0\, 0\, 0)\; line-height: 1.5\; min-height: auto\; text-decoration-style: solid\; text-decoration-color: rgb(0\, 0\, 0)\; box-sizing: inherit\; margin: 0px\;">&nbsp\;</p>\n\n<p class="yU1AD eBpBo XxGZC ozAti _9b43l" dir="" style="background-image: initial\; background-position: initial\; background-size: initial\; background-repeat: initial\; background-attachment: initial\; background-origin: initial\; background-clip: initial\; border: 0px\; margin: 0px\; outline: 0px\; padding: 0px\; vertical-align: baseline\; text-align: initial\; -webkit-tap-highlight-color: rgba(0\, 0\, 0\, 0)\; list-style-position: outside\; box-sizing: inherit\; list-style-type: disc\; margin-inline-start: 1.5em\; padding-inline-start: 0.5em\;background-image: initial\; background-position: initial\; background-size: initial\; background-repeat: initial\; background-attachment: initial\; background-origin: initial\; background-clip: initial\; border: 0px\; outline: 0px\; padding: 0px\; vertical-align: baseline\; text-align: initial\; -webkit-tap-highlight-color: rgba(0\, 0\, 0\, 0)\; line-height: 1.5\; min-height: auto\; text-decoration-style: solid\; text-decoration-color: rgb(0\, 0\, 0)\; box-sizing: inherit\; margin: 0px\;">&nbsp\;</p>\n\n<p class="yU1AD eBpBo XxGZC ozAti _9b43l" dir="" style="background-image: initial\; background-position: initial\; background-size: initial\; background-repeat: initial\; background-attachment: initial\; background-origin: initial\; background-clip: initial\; border: 0px\; margin: 0px\; outline: 0px\; padding: 0px\; vertical-align: baseline\; text-align: initial\; -webkit-tap-highlight-color: rgba(0\, 0\, 0\, 0)\; list-style-position: outside\; box-sizing: inherit\; list-style-type: disc\; margin-inline-start: 1.5em\; padding-inline-start: 0.5em\;background-image: initial\; background-position: initial\; background-size: initial\; background-repeat: initial\; background-attachment: initial\; background-origin: initial\; background-clip: initial\; border: 0px\; outline: 0px\; padding: 0px\; vertical-align: baseline\; text-align: initial\; -webkit-tap-highlight-color: rgba(0\, 0\, 0\, 0)\; line-height: 1.5\; min-height: auto\; text-decoration-style: solid\; text-decoration-color: rgb(0\, 0\, 0)\; box-sizing: inherit\; margin: 0px\;">&nbsp\;</p>\n\n<p class="yU1AD eBpBo XxGZC ozAti _9b43l" dir="" id="viewer-bs9ns521" style="background-image: initial\; background-position: initial\; background-size: initial\; background-repeat: initial\; background-attachment: initial\; background-origin: initial\; background-clip: initial\; border: 0px\; margin: 0px\; outline: 0px\; padding: 0px\; vertical-align: baseline\; text-align: initial\; -webkit-tap-highlight-color: rgba(0\, 0\, 0\, 0)\; list-style-position: outside\; box-sizing: inherit\; list-style-type: disc\; margin-inline-start: 1.5em\; padding-inline-start: 0.5em\;background-image: initial\; background-position: initial\; background-size: initial\; background-repeat: initial\; background-attachment: initial\; background-origin: initial\; background-clip: initial\; border: 0px\; outline: 0px\; padding: 0px\; vertical-align: baseline\; text-align: initial\; -webkit-tap-highlight-color: rgba(0\, 0\, 0\, 0)\; line-height: 1.5\; min-height: auto\; text-decoration-style: solid\; text-decoration-color: rgb(0\, 0\, 0)\; box-sizing: inherit\; margin: 0px\;"><span style="font-size:16px\;"><span class="yakoZ" style="background-image: initial\; background-position: initial\; background-size: initial\; background-repeat: initial\; background-attachment: initial\; background-origin: initial\; background-clip: initial\; border: 0px\; margin: 0px\; outline: 0px\; padding: 0px\; vertical-align: baseline\; text-align: initial\; -webkit-tap-highlight-color: rgba(0\, 0\, 0\, 0)\; display: block\; box-sizing: inherit\;"><span style="background-image: initial\; background-position: initial\; background-size: initial\; background-repeat: initial\; background-attachment: initial\; background-origin: initial\; background-clip: initial\; border: 0px\; margin: 0px\; outline: 0px\; padding: 0px\; vertical-align: baseline\; -webkit-tap-highlight-color: rgba(0\, 0\, 0\, 0)\; box-sizing: inherit\;"><a href="https://www.sherburnehistorycenter.org/event-details-registration/morning-at-the-museum-2025-05-10-10-00/form">Please register</a></span></span></span></p>\n
LOCATION:Sherburne History Center 10775 27th Ave SE Becker
UID:e.32.32476
SEQUENCE:3
DTSTAMP:20260421T043758Z
URL:http://business.elkriverchamber.org/events/details/morning-at-the-museum-09-12-2026-32476
END:VEVENT

END:VCALENDAR
