BEGIN:VCALENDAR
VERSION:2.0
PRODID:-//ChamberMaster//Event Calendar 2.0//EN
METHOD:PUBLISH
X-PUBLISHED-TTL:P3D
REFRESH-INTERVAL:P3D
CALSCALE:GREGORIAN
BEGIN:VEVENT
DTSTART:20250510T140000Z
DTEND:20250510T200000Z
X-MICROSOFT-CDO-ALLDAYEVENT:FALSE
SUMMARY:Oliver Kelly Farm - Springtime on the Farm
DESCRIPTION:Come on out to the Kelley Farm and help us get into the swing of spring!\n\nOur friends from the Sherburne County Master Gardeners will be hosting their annual plant sale in the Visitor Center and the Historic Farm will be open for exploration. Find a sunny spot to enjoy lunch from a food truck\, meet our barnyard animals\, and plant a flower for mom\, who gets in for free.\n\nRegular site admission\, pre-registration highly recommended.\n\nThis is a popular event! We recommend getting your site admission tickets in advance. And remember\, no need to buy Mom a ticket - she gets in for free with coupon code FREEMOM!
X-ALT-DESC;FMTTYPE=text/html:<div class="xdj266r x11i5rnm xat24cr x1mh8g0r x1vvkbs" style="margin: 0px\; overflow-wrap: break-word\; font-family: &quot\;Segoe UI Historic&quot\;\, &quot\;Segoe UI&quot\;\, Helvetica\, Arial\, sans-serif\; color: rgb(8\, 8\, 9)\; font-size: 15px\; background-color: rgb(255\, 255\, 255)\;"><span style="font-size:16px\;"><span style="font-family:arial\;">Come on out to the Kelley Farm and help us get into the swing of spring!</span></span></div>\n\n<div class="x11i5rnm xat24cr x1mh8g0r x1vvkbs xtlvy1s" style="margin: 0.5em 0px 0px\; overflow-wrap: break-word\; font-family: &quot\;Segoe UI Historic&quot\;\, &quot\;Segoe UI&quot\;\, Helvetica\, Arial\, sans-serif\; color: rgb(8\, 8\, 9)\; font-size: 15px\; background-color: rgb(255\, 255\, 255)\;"><span style="font-size:16px\;"><span style="font-family:arial\;">Our friends from the Sherburne County Master Gardeners will be hosting their annual plant sale in the Visitor Center and the Historic Farm will be open for exploration. Find a sunny spot to enjoy lunch from a food truck\, meet our barnyard animals\, and plant a flower for mom\, who gets in for free.</span></span></div>\n\n<div class="x11i5rnm xat24cr x1mh8g0r x1vvkbs xtlvy1s" style="margin: 0.5em 0px 0px\; overflow-wrap: break-word\; font-family: &quot\;Segoe UI Historic&quot\;\, &quot\;Segoe UI&quot\;\, Helvetica\, Arial\, sans-serif\; color: rgb(8\, 8\, 9)\; font-size: 15px\; background-color: rgb(255\, 255\, 255)\;"><span style="font-size:16px\;"><span style="font-family:arial\;">Regular site admission\, pre-registration highly recommended.</span></span></div>\n\n<div class="x11i5rnm xat24cr x1mh8g0r x1vvkbs xtlvy1s" style="margin: 0.5em 0px 0px\; overflow-wrap: break-word\; font-family: &quot\;Segoe UI Historic&quot\;\, &quot\;Segoe UI&quot\;\, Helvetica\, Arial\, sans-serif\; color: rgb(8\, 8\, 9)\; font-size: 15px\; background-color: rgb(255\, 255\, 255)\;"><span style="font-size:16px\;"><span style="font-family:arial\;">This is a popular event! We recommend getting your site admission tickets in advance. And remember\, no need to buy Mom a ticket - she gets in for free with coupon code FREEMOM!</span></span></div>\n
LOCATION:Oliver Kelley Farm 15788 Kelley Farm Rd NW Elk River
UID:e.32.32509
SEQUENCE:3
DTSTAMP:20260421T195302Z
URL:http://business.elkriverchamber.org/events/details/oliver-kelly-farm-springtime-on-the-farm-32509
END:VEVENT

END:VCALENDAR
