BEGIN:VCALENDAR
VERSION:2.0
PRODID:-//ChamberMaster//Event Calendar 2.0//EN
METHOD:PUBLISH
X-PUBLISHED-TTL:P3D
REFRESH-INTERVAL:P3D
CALSCALE:GREGORIAN
BEGIN:VEVENT
DTSTART:20250316T180000Z
DTEND:20250316T210000Z
X-MICROSOFT-CDO-ALLDAYEVENT:FALSE
SUMMARY:Open Doors for Youth 10th Anniversary Open House
DESCRIPTION:Please join us to celebrate our 10th anniversary! Our open house will feature tours of our drop-in center\, refreshments (including cake!)\, prizes\, and an opportunity to meet our staff and volunteers. All are welcome! Open Doors for Youth is a drop-in center for youth ages 16-24 who are experiencing homelessness or housing instability. Since opening in March 2015\, we have assisted 473 youth!
X-ALT-DESC;FMTTYPE=text/html:Please join us to celebrate our 10th anniversary! Our open house will feature tours of our drop-in center\, refreshments (including cake!)\, prizes\, and an opportunity to meet our staff and volunteers. All are welcome! Open Doors for Youth is a drop-in center for youth ages 16-24 who are experiencing homelessness or housing instability. Since opening in March 2015\, we have assisted 473 youth!
LOCATION:554 Third Street\, Suite 201 Elk River\, MN 55330
UID:e.32.32289
SEQUENCE:3
DTSTAMP:20260421T102913Z
URL:http://business.elkriverchamber.org/events/details/open-doors-for-youth-10th-anniversary-open-house-32289
END:VEVENT

END:VCALENDAR
