BEGIN:VCALENDAR
VERSION:2.0
PRODID:-//ChamberMaster//Event Calendar 2.0//EN
METHOD:PUBLISH
X-PUBLISHED-TTL:P3D
REFRESH-INTERVAL:P3D
CALSCALE:GREGORIAN
BEGIN:VEVENT
DTSTART:20250415T150000Z
DTEND:20250415T163000Z
X-MICROSOFT-CDO-ALLDAYEVENT:FALSE
SUMMARY:OTSEGO BUSINESS ALLIANCE
DESCRIPTION:Is your business located in or serves the city of Otsego? \n\nDo you want to know what is happening in Otsego?\n\nDo you want to get to know some of your business neighbors better?\n\n\n\nAt the chamber we know that people do business with those they know like and trust - getting to know other businesses in Otsego makes good business sense. \n\n\n\nRegister now and don't forget to bring business cards\, brochures or other handout items for promotion of your business.\n\n\n\nJoin us this month as we give you a Real Estate Market Update (Commercial + Residential)\n\n\n\nToday's commercial presentation is by Joe Elam from Commercial Reality Solutions. \n\nJoe Elam joined the Commercial Realty Solutions (CRS) team in 2018. Joe is a seasoned commercial real estate professional focused on assisting small businesses\, entrepreneurs\, and contractors to navigate development through the City and County planning process.  His diverse portfolio of clients range from startups to multiple-property investors. He is committed to delivering value-driven solutions and long-term results to his clients. Joe lives in Rogers and when he has free time he enjoys traveling\, being outdoors\, and attending his two daughter's many sporting events.\n\n\n\nOur residential presentation comes from Jean Braun who is from Edina Reality Otsego/Elk River office. \n\nWith 29 years in the real estate industry\, and both a bachelors and masters degree in entrepreneurship\, Jean brings experience\, strategy\, and a passion for helping others succeed. From her early days as an agent to her current role as a managing broker and mentor\, she's been dedicated to guiding both new and seasoned professionals and building strong\, successful careers. She thrives on creating a collaborative environment where agents feel supported\, empowered\, and equipped to grow.
X-ALT-DESC;FMTTYPE=text/html:<span style="font-size:16px\;"><span style="font-family:arial\;"><span style="color: rgb(51\, 51\, 51)\; background-color: rgb(255\, 255\, 255)\;">Is your business located in or serves the city of Otsego?&nbsp\;</span><br font-size:="" style="color: rgb(51\, 51\, 51)\; font-family: sans-serif\, Arial\, Verdana\, " trebuchet="" />\n<span style="color: rgb(51\, 51\, 51)\; background-color: rgb(255\, 255\, 255)\;">Do you want to know what is happening in Otsego?</span><br font-size:="" style="color: rgb(51\, 51\, 51)\; font-family: sans-serif\, Arial\, Verdana\, " trebuchet="" />\n<span style="color: rgb(51\, 51\, 51)\; background-color: rgb(255\, 255\, 255)\;">Do you want to get to know some of your business neighbors better?</span><br font-size:="" style="color: rgb(51\, 51\, 51)\; font-family: sans-serif\, Arial\, Verdana\, " trebuchet="" />\n<br font-size:="" style="color: rgb(51\, 51\, 51)\; font-family: sans-serif\, Arial\, Verdana\, " trebuchet="" />\n<span style="color: rgb(51\, 51\, 51)\; background-color: rgb(255\, 255\, 255)\;">At the chamber we know that people do business with those they know like and trust - getting to know other businesses in Otsego makes good business sense.&nbsp\;</span><br font-size:="" style="color: rgb(51\, 51\, 51)\; font-family: sans-serif\, Arial\, Verdana\, " trebuchet="" />\n<br font-size:="" style="color: rgb(51\, 51\, 51)\; font-family: sans-serif\, Arial\, Verdana\, " trebuchet="" />\n<span style="color: rgb(51\, 51\, 51)\; background-color: rgb(255\, 255\, 255)\;">Register now and don&#39\;t forget to&nbsp\;</span><span style="color: rgb(51\, 51\, 51)\;">bring business cards\, brochures or other handout items for promotion of your business.</span></span></span><br />\n<br />\n<span style="color: rgb(34\, 34\, 34)\; font-family: arial\; font-size: 16px\; background-color: rgb(255\, 255\, 255)\;">Join us this month as we give you a Real Estate Market Update (Commercial + Residential)</span><br />\n<br />\n<span style="font-size:16px\;"><span style="font-family:arial\;">Today&#39\;s commercial presentation is by Joe Elam from Commercial Reality Solutions.&nbsp\;</span></span><br />\n<span style="color: rgb(36\, 36\, 36)\; font-family: Aptos\, sans-serif\; font-size: 12pt\;">Joe Elam joined the Commercial Realty Solutions (CRS) team in 2018.&nbsp\;</span><span style="color: rgb(36\, 36\, 36)\; font-family: Aptos\, sans-serif\; font-size: 12pt\;">Joe is a seasoned commercial real estate professional focused on assisting small businesses\, entrepreneurs\, and contractors to navigate development through the City and County planning process.&nbsp\; His diverse portfolio of clients range from startups to multiple-property investors. He is committed to delivering value-driven solutions and long-term results to his clients. Joe lives in Rogers and when he has free time he enjoys traveling\, being outdoors\, and attending his two daughter&#39\;s many sporting events.</span><br />\n<br />\n<span style="font-size:16px\;"><span style="font-family:arial\;"><span style="color: rgb(34\, 34\, 34)\; background-color: rgb(255\, 255\, 255)\;">Our residential presentation comes from Jean Braun who is from Edina Reality Otsego/Elk River office.&nbsp\;<br />\nWith 29 years in the real estate industry\, and both a bachelors and masters degree in entrepreneurship\, Jean brings experience\, strategy\, and a passion for helping others succeed. From her early days as an agent to her current role as a managing broker and mentor\, she&rsquo\;s been dedicated to guiding both new and seasoned professionals and building strong\, successful careers. She thrives on creating a collaborative environment where agents feel supported\, empowered\, and equipped to grow.</span></span></span><br />\n<br />\n&nbsp\;
LOCATION:The Back Forty @ Boondox 9100 Park Ave NE\, Otsego
UID:e.32.32217
SEQUENCE:3
DTSTAMP:20260419T134801Z
URL:http://business.elkriverchamber.org/events/details/otsego-business-alliance-04-15-2025-32217
END:VEVENT

END:VCALENDAR
