BEGIN:VCALENDAR
VERSION:2.0
PRODID:-//ChamberMaster//Event Calendar 2.0//EN
METHOD:PUBLISH
X-PUBLISHED-TTL:P3D
REFRESH-INTERVAL:P3D
CALSCALE:GREGORIAN
BEGIN:VEVENT
DTSTART:20250626T230000Z
DTEND:20250627T000000Z
X-MICROSOFT-CDO-ALLDAYEVENT:FALSE
SUMMARY:Otsego Summer Entertainment in the Park
DESCRIPTION:Free family entertainment!\n\nBring a picnic\, play at the playground\, and cool off at the splash pad!\n\n\n\nToday is "Park Ranger Rachel Storytime."
X-ALT-DESC;FMTTYPE=text/html:<span style="font-size:16px\;"><span style="font-family:arial\;">Free family entertainment!<br />\nBring a picnic\, play at the playground\, and cool off at the splash pad!<br />\n<br />\nToday is &quot\;Park Ranger Rachel Storytime.&quot\;</span></span><br />\n&nbsp\;
LOCATION:Otsego Prairie Park Shelter 13355 90th St. NE Otsego
UID:e.32.32588
SEQUENCE:3
DTSTAMP:20260421T214942Z
URL:http://business.elkriverchamber.org/events/details/otsego-summer-entertainment-in-the-park-32588
END:VEVENT

END:VCALENDAR
