BEGIN:VCALENDAR
VERSION:2.0
PRODID:-//ChamberMaster//Event Calendar 2.0//EN
METHOD:PUBLISH
X-PUBLISHED-TTL:P3D
REFRESH-INTERVAL:P3D
CALSCALE:GREGORIAN
BEGIN:VEVENT
DTSTART:20250315T143000Z
DTEND:20250315T170000Z
X-MICROSOFT-CDO-ALLDAYEVENT:FALSE
SUMMARY:Planning Your Vegetable Garden Workshop
DESCRIPTION:Whether you are new to vegetable gardening or an experienced gardener\, this workshop is for\n\nyou! You will learn the essential topics when starting a new vegetable garden or improve your\n\nestablished garden with helpful tips from a University of Minnesota Extension Master Gardener. You will expand your knowledge of techniques to get the most from your garden\, including soil health\, crop rotation\, succession planting\, companion planting\, and ways to extend the growing season. As a group\, we will explore how to understand the information provided in seed catalogs and seed packets to help select varieties that best suit your needs. The instructor will offer tips on specific vegetable varieties that are particularly well suited to our area.
X-ALT-DESC;FMTTYPE=text/html:<p>Whether you are new to vegetable gardening or an experienced gardener\, this workshop is for<br />\nyou! You will learn the essential topics when starting a new vegetable garden or improve your<br />\nestablished garden with helpful tips from a University of Minnesota Extension Master Gardener. You will expand your knowledge of techniques to get the most from your garden\, including soil health\, crop rotation\, succession planting\, companion planting\, and ways to extend the growing season. As a group\, we will explore how to understand the information provided in seed catalogs and seed packets to help select varieties that best suit your needs. The instructor will offer tips on specific vegetable varieties that are particularly well suited to our area.</p>\n\n<p>&nbsp\;</p>\n
LOCATION:Oliver Kelley Farm 15788 Kelley Farm Rd NW Elk River\, MN 55330
UID:e.32.32282
SEQUENCE:3
DTSTAMP:20260421T103008Z
URL:http://business.elkriverchamber.org/events/details/planning-your-vegetable-garden-workshop-03-15-2025-32282
END:VEVENT

END:VCALENDAR
