BEGIN:VCALENDAR
VERSION:2.0
PRODID:-//ChamberMaster//Event Calendar 2.0//EN
METHOD:PUBLISH
X-PUBLISHED-TTL:P3D
REFRESH-INTERVAL:P3D
CALSCALE:GREGORIAN
BEGIN:VEVENT
DTSTART:20250617T220000Z
DTEND:20250618T000000Z
X-MICROSOFT-CDO-ALLDAYEVENT:FALSE
SUMMARY:Popsicles with Public Safety
DESCRIPTION:Join the Elk River Police and Fire Department on Tuesday\, June 17\, for popsicles in the park! At the event\, kids can meet K9 Duke\, have a Child Safe ID kit done\, explore the vehicles\, and talk to the police and fire department. Jonny Pops will be handing out free popsicles for everyone!
X-ALT-DESC;FMTTYPE=text/html:Join the Elk River Police and Fire Department on Tuesday\, June 17\, for popsicles in the park! At the event\, kids can meet K9 Duke\, have a Child Safe ID kit done\, explore the vehicles\, and talk to the police and fire department. Jonny Pops will be handing out free popsicles for everyone!
LOCATION:Orono Park 18599 Gary St. NW Elk River\, MN 55330
UID:e.32.32400
SEQUENCE:3
DTSTAMP:20260421T230403Z
URL:http://business.elkriverchamber.org/events/details/popsicles-with-public-safety-06-17-2025-32400
END:VEVENT

END:VCALENDAR
