BEGIN:VCALENDAR
VERSION:2.0
PRODID:-//ChamberMaster//Event Calendar 2.0//EN
METHOD:PUBLISH
X-PUBLISHED-TTL:P3D
REFRESH-INTERVAL:P3D
CALSCALE:GREGORIAN
BEGIN:VEVENT
DTSTART:20250123T000000Z
DTEND:20250123T020000Z
X-MICROSOFT-CDO-ALLDAYEVENT:FALSE
SUMMARY:Profile of a Graduate Community Café
DESCRIPTION:Profile of a Graduate Request for Community Cafe Members\n\nWe are thrilled to invite you to our upcoming Profile of a Graduate Community Caf  event! This collaborative gathering is designed to bring together parents\, business leaders\, educators\, and students to share valuable insights.\n\nThe Profile of a Graduate Framework will serve as a foundation for defining the core skills and competencies our graduates need to thrive in their personal lives\, excel in their careers\, and contribute meaningfully to their communities. Your input is essential in shaping this vision for our students' futures. \n\nIf you would like to participate in the Profile of A Graduate Community Cafe event\, click HERE.
X-ALT-DESC;FMTTYPE=text/html:<p align="center" style="color: rgb(34\, 34\, 34)\; font-family: Arial\, Helvetica\, sans-serif\; font-size: small\; background-color: rgb(255\, 255\, 255)\; margin-right: 0in\; margin-bottom: 12pt\; margin-left: 0in\; text-align: center\;"><span style="font-size:16px\;"><span style="font-family:arial\;"><b><span style="color: black\;">Profile of a Graduate&nbsp\;Request for Community Cafe Members</span></b></span></span></p>\n\n<p style="color: rgb(34\, 34\, 34)\; font-family: Arial\, Helvetica\, sans-serif\; font-size: small\; background-color: rgb(255\, 255\, 255)\; margin-right: 0in\; margin-bottom: 12pt\; margin-left: 0in\;"><span style="font-size:16px\;"><span style="font-family:arial\;"><span style="color: black\;">We are thrilled to invite you to our upcoming&nbsp\;<b>Profile of a Graduate Community Caf&eacute\;</b>&nbsp\;event! This collaborative gathering is designed to bring together parents\, business leaders\, educators\, and students to share valuable insights.</span></span></span></p>\n\n<p style="color: rgb(34\, 34\, 34)\; font-family: Arial\, Helvetica\, sans-serif\; font-size: small\; background-color: rgb(255\, 255\, 255)\; margin-right: 0in\; margin-bottom: 12pt\; margin-left: 0in\;"><span style="font-size:16px\;"><span style="font-family:arial\;"><span style="color: black\;">The Profile of a Graduate Framework will serve as a foundation for defining the core skills and competencies our graduates need to thrive in their personal lives\, excel in their careers\, and contribute meaningfully to their communities. Your input is essential in shaping this vision for our students&#39\; futures.&nbsp\;</span></span></span><br />\n<span style="font-size: small\; background-color: rgb(255\, 255\, 255)\; font-family: Arial\, sans-serif\;">If you would like to participate in the Profile of A Graduate Community Cafe event\, click</span><b style="color: rgb(34\, 34\, 34)\; font-family: Arial\, Helvetica\, sans-serif\; font-size: small\; background-color: rgb(255\, 255\, 255)\;"><span style="font-size: 13.5pt\; font-family: Arial\, sans-serif\; color: black\; background: yellow\;">&nbsp\;</span></b><span style="color: rgb(34\, 34\, 34)\; background-color: rgb(255\, 255\, 255)\; font-size: 13.5pt\; font-family: Tahoma\, sans-serif\;"><a data-saferedirecturl="https://www.google.com/url?q=https://forms.gle/3iqpk34SmDYFnrX5A&amp\;source=gmail&amp\;ust=1734447817896000&amp\;usg=AOvVaw03H9GTusVj4Q7Fx5qZsk5i" href="https://forms.gle/3iqpk34SmDYFnrX5A" style="color: rgb(17\, 85\, 204)\; cursor: pointer\;" target="_blank"><b><span style="font-family: Arial\, sans-serif\; background: yellow\;">HERE</span></b></a></span><b style="color: rgb(34\, 34\, 34)\; font-family: Arial\, Helvetica\, sans-serif\; font-size: small\; background-color: rgb(255\, 255\, 255)\;"><span style="font-size: 13.5pt\; font-family: Arial\, sans-serif\; color: black\; background: yellow\;">.</span></b><span style="background-color: rgb(255\, 255\, 255)\; font-size: 13.5pt\; font-family: Arial\, sans-serif\;">&nbsp\;&nbsp\;</span></p>\n
LOCATION:District Office\, 11500 193rd Ave NW\, Elk River\, MN 55330
UID:e.32.32243
SEQUENCE:3
DTSTAMP:20260421T154522Z
URL:http://business.elkriverchamber.org/events/details/profile-of-a-graduate-community-caf&#233;-32243
END:VEVENT

END:VCALENDAR
