BEGIN:VCALENDAR
VERSION:2.0
PRODID:-//ChamberMaster//Event Calendar 2.0//EN
METHOD:PUBLISH
X-PUBLISHED-TTL:P3D
REFRESH-INTERVAL:P3D
CALSCALE:GREGORIAN
BEGIN:VEVENT
DTSTART:20241202T233000Z
DTEND:20241203T003000Z
X-MICROSOFT-CDO-ALLDAYEVENT:FALSE
SUMMARY:Puzzle Exchange
DESCRIPTION:Bring one puzzle (or more) in good condition to swap. For all ages.
X-ALT-DESC;FMTTYPE=text/html:<span style="font-size:16px\;"><span style="font-family:arial\;"><span style="color: rgb(51\, 51\, 51)\; background-color: rgb(255\, 255\, 255)\;">Bring one puzzle (or more) in good condition to swap. For all ages.</span></span></span>
LOCATION:Elk River Public Library 13020 Orono Pkwy\, Elk River\, MN 55330
UID:e.32.32210
SEQUENCE:3
DTSTAMP:20260421T135302Z
URL:http://business.elkriverchamber.org/events/details/puzzle-exchange-32210
END:VEVENT

END:VCALENDAR
