BEGIN:VCALENDAR
VERSION:2.0
PRODID:-//ChamberMaster//Event Calendar 2.0//EN
METHOD:PUBLISH
X-PUBLISHED-TTL:P3D
REFRESH-INTERVAL:P3D
CALSCALE:GREGORIAN
BEGIN:VEVENT
DTSTART:20250614T133000Z
DTEND:20250614T200000Z
X-MICROSOFT-CDO-ALLDAYEVENT:FALSE
SUMMARY:River of Life Annual Golf Outing
DESCRIPTION:Annual Golf Outing\n\nYou?re invited to our Annual Golf Outing on June 14 at Vintage Golf Course (Riverwood National) in Monticello! This is a fundraiser for the YTH at River of Life. Invite your friends\, neighbors and coworkers for some fun\, friendly competition. Teams of four will be formed with awards for the longest drive\, longest putt\, best scorecard\, and more! Please arrive at 8:30AM with Tee-time at 9:00AM. This event is open to EVERYONE and will include 9 holes\, a cart\, fun games + prizes\, and lunch following the tournament. Total cost is $50.00 per person. Register by June 8!
X-ALT-DESC;FMTTYPE=text/html:<h3 style="box-sizing: border-box\; vertical-align: baseline\; font-family: Montserrat\; font-weight: 300\; font-size: 36px\; outline: 0px\; padding: 0px\; margin: 0px 0px 8px\; border: 0px\; line-height: 40px\; color: rgb(68\, 68\, 68)\; -webkit-font-smoothing: antialiased\; text-align: center\; background-color: rgb(255\, 255\, 255)\;"><span style="font-size:26px\;"><span style="font-family:arial\;">Annual Golf Outing</span></span></h3>\n\n<p data-pm-slice="1 1 []" style="box-sizing: border-box\; vertical-align: baseline\; font-family: Roboto\; font-size: 18px\; outline: 0px\; padding: 0px\; margin: 0px\; border: 0px\; -webkit-font-smoothing: subpixel-antialiased\; color: rgb(103\, 103\, 103)\; text-align: center\; background-color: rgb(255\, 255\, 255)\;"><span style="font-size:16px\;"><span style="font-family:arial\;">You?re invited to our Annual Golf Outing on June 14 at Vintage Golf Course (Riverwood National) in Monticello! This is a fundraiser for the YTH at River of Life. Invite your friends\, neighbors and coworkers for some fun\, friendly competition. Teams of four will be formed with awards for the longest drive\, longest putt\, best scorecard\, and more! Please arrive at 8:30AM with Tee-time at 9:00AM. This event is open to EVERYONE and will include 9 holes\, a cart\, fun games + prizes\, and lunch following the tournament. Total cost is $50.00 per person. <strong>Register by June 8!</strong></span></span></p>\n
LOCATION:Riverwood National Golf Course 10247 95th St NE Monticello
UID:e.32.32538
SEQUENCE:3
DTSTAMP:20260421T230434Z
URL:http://business.elkriverchamber.org/events/details/river-of-life-annual-golf-outing-32538
END:VEVENT

END:VCALENDAR
