BEGIN:VCALENDAR
VERSION:2.0
PRODID:-//ChamberMaster//Event Calendar 2.0//EN
METHOD:PUBLISH
X-PUBLISHED-TTL:P3D
REFRESH-INTERVAL:P3D
CALSCALE:GREGORIAN
BEGIN:VEVENT
DTSTART:20250613T233000Z
DTEND:20250614T023000Z
X-MICROSOFT-CDO-ALLDAYEVENT:FALSE
SUMMARY:River of Life Youth Rally Night
DESCRIPTION:YTH Rally Nights\n\nCalling all students 6th-12th grade! Summer YTH Rally Nights are BACK! We want to invite you to our first Rally Night on Friday\, June 13 from 6:30-9:30PM. Come and bring all your friends for a fun and powerful night of worship\, delicious food\, raffles\, games\, and more! Sign up today! We can't wait to see you!
X-ALT-DESC;FMTTYPE=text/html:<h3 style="box-sizing: border-box\; vertical-align: baseline\; font-family: Montserrat\; font-weight: 300\; font-size: 36px\; outline: 0px\; padding: 0px\; margin: 0px 0px 8px\; border: 0px\; line-height: 40px\; color: rgb(68\, 68\, 68)\; -webkit-font-smoothing: antialiased\; text-align: center\; background-color: rgb(255\, 255\, 255)\;">YTH Rally Nights</h3>\n\n<p data-pm-slice="1 1 []" style="box-sizing: border-box\; vertical-align: baseline\; font-family: Roboto\; font-size: 18px\; outline: 0px\; padding: 0px\; margin: 0px\; border: 0px\; -webkit-font-smoothing: subpixel-antialiased\; color: rgb(103\, 103\, 103)\; text-align: center\; background-color: rgb(255\, 255\, 255)\;">Calling all students 6th-12th grade! Summer YTH Rally Nights are BACK! We want to invite you to our first Rally Night on Friday\, June 13 from 6:30-9:30PM. Come and bring all your friends for a fun and powerful night of worship\, delicious food\, raffles\, games\, and more! Sign up today! We can&rsquo\;t wait to see you!</p>\n
LOCATION:River of Life Church 21695 Elk Lake Rd Elk River
UID:e.32.32562
SEQUENCE:3
DTSTAMP:20260421T215314Z
URL:http://business.elkriverchamber.org/events/details/river-of-life-youth-rally-night-32562
END:VEVENT

END:VCALENDAR
