BEGIN:VCALENDAR
VERSION:2.0
PRODID:-//ChamberMaster//Event Calendar 2.0//EN
METHOD:PUBLISH
X-PUBLISHED-TTL:P3D
REFRESH-INTERVAL:P3D
CALSCALE:GREGORIAN
BEGIN:VEVENT
DTSTART:20250613T000000Z
DTEND:20250613T020000Z
X-MICROSOFT-CDO-ALLDAYEVENT:FALSE
SUMMARY:Riverfront Concert Series
DESCRIPTION:***TONIGHTS CONCERT HAS BEEN MOVED INDOORS TO FURNITURE AND THINGS COMMUNITY EVENT CENTER DUE TO THE RAIN!\n\nA different band every week!\n\nCheck out the website for the lineup.
X-ALT-DESC;FMTTYPE=text/html:***TONIGHTS CONCERT HAS BEEN MOVED INDOORS TO FURNITURE AND THINGS COMMUNITY EVENT CENTER DUE TO THE RAIN!<br />\nA different band every week!<br />\nCheck out the website for the lineup.
LOCATION:Furniture and Things Community Event Center 1000 School St.\, Elk River
UID:e.32.32367
SEQUENCE:3
DTSTAMP:20260421T214439Z
URL:http://business.elkriverchamber.org/events/details/riverfront-concert-series-32367
END:VEVENT

END:VCALENDAR
