BEGIN:VCALENDAR
VERSION:2.0
PRODID:-//ChamberMaster//Event Calendar 2.0//EN
METHOD:PUBLISH
X-PUBLISHED-TTL:P3D
REFRESH-INTERVAL:P3D
CALSCALE:GREGORIAN
BEGIN:VEVENT
DTSTART:20250411T210000Z
DTEND:20250412T030000Z
X-MICROSOFT-CDO-ALLDAYEVENT:FALSE
SUMMARY:Rivers of Hope Masquerade Gala
DESCRIPTION:Join us for The Rivers of Hope Masquerade Gala\, an evening of elegance and impact! Doors open at 5:00 PM\, with the event beginning at 6:00 PM. Enjoy a delicious plated meal\, bid on items in our silent and live auctions\, and take part in fun games throughout the night. \n\nAll proceeds will directly support Rivers of Hope and the survivors we serve\, helping us continue our mission to empower individuals and families impacted by domestic violence. Don't miss this unforgettable night of giving and celebration. \n\n\n\nWe are currently looking for sponsors! Sponsorships come with anywhere from 6-24 admissions and meals\, drink tickets\, as well as sponsor recognition as part of event promotion and at the event.\n\nYou can learn more and register to sponsor here: https://givebutter.com/uRZsv1
X-ALT-DESC;FMTTYPE=text/html:Join us for The Rivers of Hope Masquerade Gala\, an evening of elegance and impact! Doors open at 5:00 PM\, with the event beginning at 6:00 PM. Enjoy a delicious plated meal\, bid on items in our silent and live auctions\, and take part in fun games throughout the night.&nbsp\;<br />\nAll proceeds will directly support Rivers of Hope and the survivors we serve\, helping us continue our mission to empower individuals and families impacted by domestic violence. Don&#39\;t miss this unforgettable night of giving and celebration.&nbsp\;<br />\n<br />\nWe are currently looking for sponsors! Sponsorships come with anywhere from 6-24 admissions and meals\, drink tickets\, as well as sponsor recognition as part of event promotion and at the event.<br />\nYou can learn more and register to sponsor here:&nbsp\;<a href="https://givebutter.com/uRZsv1">https://givebutter.com/uRZsv1&nbsp\;</a>
LOCATION:Rockwoods 9100 Quaday Ave. NE Otsego\, MN 55330
UID:e.32.32257
SEQUENCE:3
DTSTAMP:20260421T103003Z
URL:http://business.elkriverchamber.org/events/details/rivers-of-hope-masquerade-gala-32257
END:VEVENT

END:VCALENDAR
