BEGIN:VCALENDAR
VERSION:2.0
PRODID:-//ChamberMaster//Event Calendar 2.0//EN
METHOD:PUBLISH
X-PUBLISHED-TTL:P3D
REFRESH-INTERVAL:P3D
CALSCALE:GREGORIAN
BEGIN:VEVENT
DTSTART:20250123T010000Z
DTEND:20250123T014500Z
X-MICROSOFT-CDO-ALLDAYEVENT:FALSE
SUMMARY:Rogers High School One Act Play Community Night
DESCRIPTION:Please Join Rogers High School for a One-Act community night performance of Monster. This one night only performance helps our students with a live audience before we head to MSHSL competitons. Come support our students for 45 minutes! "Monster" is about famed English poet\, Lord Byron\, and real-life Gothic writers Mary Shelley\, Percy Shelley and John Polidori during their famous summer at Lake Geneva\, where they attempted to create literary monsters to scare their companions. The famous result was Mary Shelley's 1818 novel\, "Frankenstein\," the story of a young scientist who creates a "monster."
X-ALT-DESC;FMTTYPE=text/html:Please Join Rogers High School for a One-Act community night performance of Monster. This one night only performance helps our students with a live audience before we head to MSHSL competitons. Come support our students for 45 minutes! &quot\;Monster&quot\; is about famed English poet\, Lord Byron\, and real-life Gothic writers Mary Shelley\, Percy Shelley and John Polidori during their famous summer at Lake Geneva\, where they attempted to create literary monsters to scare their companions. The famous result was Mary Shelley&#39\;s 1818 novel\, &quot\;Frankenstein\,&quot\; the story of a young scientist who creates a &ldquo\;monster.&rdquo\;
LOCATION:Rogers High School Performing Arts Center 21000 141st Avenue N Rogers\, MN 55374 Door 2
UID:e.32.32270
SEQUENCE:3
DTSTAMP:20260421T154424Z
URL:http://business.elkriverchamber.org/events/details/rogers-high-school-one-act-play-community-night-32270
END:VEVENT

END:VCALENDAR
