BEGIN:VCALENDAR
VERSION:2.0
PRODID:-//ChamberMaster//Event Calendar 2.0//EN
METHOD:PUBLISH
X-PUBLISHED-TTL:P3D
REFRESH-INTERVAL:P3D
CALSCALE:GREGORIAN
BEGIN:VEVENT
DTSTART:20241207T200000Z
DTEND:20241207T230000Z
X-MICROSOFT-CDO-ALLDAYEVENT:FALSE
SUMMARY:Santa in the Park
DESCRIPTION:SANTA IN THE PARK!\n\nSanta will be coming to Rivers Edge Park on Saturday\, November 7 from 2 to 5 PM\n\n\n\nPre-registration is required for each child for a visit with Santa.\n\nBring your own camera or phone to take a photo.\n\n\n\nThis is a free event.\n\n\n\nKids\, remember to bring your letter to Santa and drop it in the official north pole mailbox at the event.\n\n\n\nRegistration will open October 2024
X-ALT-DESC;FMTTYPE=text/html:<span style="font-size:14px\;"><span style="color: rgb(34\, 34\, 34)\; font-family: Arial\, Helvetica\, sans-serif\; background-color: rgb(255\, 255\, 255)\;"><strong>SANTA IN THE PARK!</strong><br />\nSanta will be coming to Rivers Edge Park on Saturday\, November 7 from 2 to 5 PM<br />\n<br />\nPre-registration is required for each child for a visit with Santa.<br />\nBring your own camera or phone to take a photo.<br />\n<br />\nThis is a free event.<br />\n<br />\nKids\, remember to bring your letter to Santa and drop it in the official north pole mailbox at the event.<br />\n<br />\nRegistration will open October 2024</span></span>
LOCATION:Rivers Edge Park 679 Main St NW Elk River
UID:e.32.31274
SEQUENCE:3
DTSTAMP:20260421T135714Z
URL:http://business.elkriverchamber.org/events/details/santa-in-the-park-12-07-2024-31274
END:VEVENT

END:VCALENDAR
