BEGIN:VCALENDAR
VERSION:2.0
PRODID:-//ChamberMaster//Event Calendar 2.0//EN
METHOD:PUBLISH
X-PUBLISHED-TTL:P3D
REFRESH-INTERVAL:P3D
CALSCALE:GREGORIAN
BEGIN:VEVENT
DTSTART:20250320T220000Z
DTEND:20250321T010000Z
X-MICROSOFT-CDO-ALLDAYEVENT:FALSE
SUMMARY:Serrano Brothers Pizza Pop Up!
DESCRIPTION:Stop by  for one of our delicious wood fired pizzas and your favorite beverage!\n\nBring the family and tell a friend!\n\nSee you at Serrano Brothers.
X-ALT-DESC;FMTTYPE=text/html:Stop by&nbsp\; for one of our delicious wood fired pizzas and your favorite beverage!<br />\nBring the family and tell a friend!<br />\nSee you at Serrano Brothers.&nbsp\;
LOCATION:14043 Business Center Drive NW\, Elk River
UID:e.32.32412
SEQUENCE:3
DTSTAMP:20260421T154136Z
URL:http://business.elkriverchamber.org/events/details/serrano-brothers-pizza-pop-up-32412
END:VEVENT

END:VCALENDAR
