BEGIN:VCALENDAR
VERSION:2.0
PRODID:-//ChamberMaster//Event Calendar 2.0//EN
METHOD:PUBLISH
X-PUBLISHED-TTL:P3D
REFRESH-INTERVAL:P3D
CALSCALE:GREGORIAN
BEGIN:VEVENT
DTSTART:20250610T230000Z
DTEND:20250611T010000Z
X-MICROSOFT-CDO-ALLDAYEVENT:FALSE
SUMMARY:Sherburne History Center Ice Cream Social
DESCRIPTION:Annual Ice Cream Social at the Sherburne History Center\n\n \n\nJoin us for a delightful Ice Cream Social at the Sherburne History Center! Enjoy a fun-filled evening with family and friends featuring:\n\n\n	\n	Free Ice Cream\n	\n	\n	Live Music\n	\n	\n	Chalk Art\n	\n	\n	Crafts\n	\n\n\nDon't miss out on this wonderful community event!\n\n\n\nRSVP Here
X-ALT-DESC;FMTTYPE=text/html:<h2 class="HrEPg CLBxX XxGZC ozAti" dir="auto" id="viewer-2jd0r642" style="background-image: initial\; background-position: initial\; background-size: initial\; background-repeat: initial\; background-attachment: initial\; background-origin: initial\; background-clip: initial\; border: 0px\; outline: 0px\; padding: 0px\; vertical-align: baseline\; text-align: initial\; -webkit-tap-highlight-color: rgba(0\, 0\, 0\, 0)\; font-variant-numeric: inherit\; font-variant-east-asian: inherit\; font-variant-alternates: inherit\; font-variant-position: inherit\; font-variant-emoji: inherit\; font-weight: 400\; font-stretch: inherit\; font-size: 28px\; line-height: 1.5\; font-family: avenir-lt-w01_35-light1475496\, sans-serif\; font-optical-sizing: inherit\; font-size-adjust: inherit\; font-kerning: inherit\; font-feature-settings: inherit\; font-variation-settings: inherit\; min-height: 36px\; box-sizing: inherit\; margin: 0px\; white-space-collapse: preserve\;"><span class="ZvZMU" style="background-image: initial\; background-position: initial\; background-size: initial\; background-repeat: initial\; background-attachment: initial\; background-origin: initial\; background-clip: initial\; border: 0px\; margin: 0px\; outline: 0px\; padding: 0px\; vertical-align: baseline\; text-align: initial\; -webkit-tap-highlight-color: rgba(0\, 0\, 0\, 0)\; display: block\; box-sizing: inherit\;"><span style="font-size:16px\;"><span style="font-family:arial\;"><span style="background-image: initial\; background-position: initial\; background-size: initial\; background-repeat: initial\; background-attachment: initial\; background-origin: initial\; background-clip: initial\; border: 0px\; margin: 0px\; outline: 0px\; padding: 0px\; vertical-align: baseline\; -webkit-tap-highlight-color: rgba(0\, 0\, 0\, 0)\; box-sizing: inherit\;">Annual Ice Cream Social at the Sherburne History Center</span></span></span></span></h2>\n\n<div dir="auto">&nbsp\;</div>\n\n<p class="yU1AD eBpBo XxGZC ozAti" dir="auto" id="viewer-s7tay644" style="background-image: initial\; background-position: initial\; background-size: initial\; background-repeat: initial\; background-attachment: initial\; background-origin: initial\; background-clip: initial\; border: 0px\; outline: 0px\; padding: 0px\; vertical-align: baseline\; text-align: initial\; -webkit-tap-highlight-color: rgba(0\, 0\, 0\, 0)\; font-family: avenir-lt-w01_35-light1475496\, sans-serif\; font-size: 16px\; line-height: 1.5\; min-height: auto\; box-sizing: inherit\; margin: 0px\; white-space-collapse: preserve\;"><span style="font-size:16px\;"><span style="font-family:arial\;"><span class="yakoZ" style="background-image: initial\; background-position: initial\; background-size: initial\; background-repeat: initial\; background-attachment: initial\; background-origin: initial\; background-clip: initial\; border: 0px\; margin: 0px\; outline: 0px\; padding: 0px\; vertical-align: baseline\; text-align: initial\; -webkit-tap-highlight-color: rgba(0\, 0\, 0\, 0)\; display: block\; box-sizing: inherit\;"><span style="background-image: initial\; background-position: initial\; background-size: initial\; background-repeat: initial\; background-attachment: initial\; background-origin: initial\; background-clip: initial\; border: 0px\; margin: 0px\; outline: 0px\; padding: 0px\; vertical-align: baseline\; -webkit-tap-highlight-color: rgba(0\, 0\, 0\, 0)\; box-sizing: inherit\;">Join us for a delightful Ice Cream Social at the Sherburne History Center! Enjoy a fun-filled evening with family and friends featuring:</span></span></span></span></p>\n\n<ul class="bJAXr XxGZC" style="background-image: initial\; background-position: initial\; background-size: initial\; background-repeat: initial\; background-attachment: initial\; background-origin: initial\; background-clip: initial\; border: 0px\; margin: 0px\; outline: 0px\; padding: 0px\; vertical-align: baseline\; list-style: outside none\; text-align: initial\; -webkit-tap-highlight-color: rgba(0\, 0\, 0\, 0)\; font-family: avenir-lt-w01_35-light1475496\, sans-serif\; font-size: 16px\; line-height: 1.5\; min-height: auto\; box-sizing: inherit\; white-space-collapse: preserve\;">\n	<li aria-level="1" class="_9b43l" dir="auto" style="background-image: initial\; background-position: initial\; background-size: initial\; background-repeat: initial\; background-attachment: initial\; background-origin: initial\; background-clip: initial\; border: 0px\; margin: 0px\; outline: 0px\; padding: 0px\; vertical-align: baseline\; text-align: initial\; -webkit-tap-highlight-color: rgba(0\, 0\, 0\, 0)\; list-style-position: outside\; box-sizing: inherit\; list-style-type: disc\; margin-inline-start: 1.5em\; padding-inline-start: 0.5em\;">\n	<p class="yU1AD eBpBo XxGZC ozAti" dir="" id="viewer-tjo9a648" style="background-image: initial\; background-position: initial\; background-size: initial\; background-repeat: initial\; background-attachment: initial\; background-origin: initial\; background-clip: initial\; border: 0px\; outline: 0px\; padding: 0px\; vertical-align: baseline\; text-align: initial\; -webkit-tap-highlight-color: rgba(0\, 0\, 0\, 0)\; line-height: 1.5\; min-height: auto\; text-decoration-style: solid\; text-decoration-color: rgb(0\, 0\, 0)\; box-sizing: inherit\; margin: 0px\;"><span style="font-size:16px\;"><span style="font-family:arial\;"><span class="yakoZ" style="background-image: initial\; background-position: initial\; background-size: initial\; background-repeat: initial\; background-attachment: initial\; background-origin: initial\; background-clip: initial\; border: 0px\; margin: 0px\; outline: 0px\; padding: 0px\; vertical-align: baseline\; text-align: initial\; -webkit-tap-highlight-color: rgba(0\, 0\, 0\, 0)\; display: block\; box-sizing: inherit\;"><span style="background-image: initial\; background-position: initial\; background-size: initial\; background-repeat: initial\; background-attachment: initial\; background-origin: initial\; background-clip: initial\; border: 0px\; margin: 0px\; outline: 0px\; padding: 0px\; vertical-align: baseline\; -webkit-tap-highlight-color: rgba(0\, 0\, 0\, 0)\; box-sizing: inherit\; font-weight: 700\;">Free Ice Cream</span></span></span></span></p>\n	</li>\n	<li aria-level="1" class="_9b43l" dir="auto" style="background-image: initial\; background-position: initial\; background-size: initial\; background-repeat: initial\; background-attachment: initial\; background-origin: initial\; background-clip: initial\; border: 0px\; margin: 0px\; outline: 0px\; padding: 0px\; vertical-align: baseline\; text-align: initial\; -webkit-tap-highlight-color: rgba(0\, 0\, 0\, 0)\; list-style-position: outside\; box-sizing: inherit\; list-style-type: disc\; margin-inline-start: 1.5em\; padding-inline-start: 0.5em\;">\n	<p class="yU1AD eBpBo XxGZC ozAti" dir="" id="viewer-jyxp6652" style="background-image: initial\; background-position: initial\; background-size: initial\; background-repeat: initial\; background-attachment: initial\; background-origin: initial\; background-clip: initial\; border: 0px\; outline: 0px\; padding: 0px\; vertical-align: baseline\; text-align: initial\; -webkit-tap-highlight-color: rgba(0\, 0\, 0\, 0)\; line-height: 1.5\; min-height: auto\; text-decoration-style: solid\; text-decoration-color: rgb(0\, 0\, 0)\; box-sizing: inherit\; margin: 0px\;"><span style="font-size:16px\;"><span style="font-family:arial\;"><span class="yakoZ" style="background-image: initial\; background-position: initial\; background-size: initial\; background-repeat: initial\; background-attachment: initial\; background-origin: initial\; background-clip: initial\; border: 0px\; margin: 0px\; outline: 0px\; padding: 0px\; vertical-align: baseline\; text-align: initial\; -webkit-tap-highlight-color: rgba(0\, 0\, 0\, 0)\; display: block\; box-sizing: inherit\;"><span style="background-image: initial\; background-position: initial\; background-size: initial\; background-repeat: initial\; background-attachment: initial\; background-origin: initial\; background-clip: initial\; border: 0px\; margin: 0px\; outline: 0px\; padding: 0px\; vertical-align: baseline\; -webkit-tap-highlight-color: rgba(0\, 0\, 0\, 0)\; box-sizing: inherit\; font-weight: 700\;">Live Music</span></span></span></span></p>\n	</li>\n	<li aria-level="1" class="_9b43l" dir="auto" style="background-image: initial\; background-position: initial\; background-size: initial\; background-repeat: initial\; background-attachment: initial\; background-origin: initial\; background-clip: initial\; border: 0px\; margin: 0px\; outline: 0px\; padding: 0px\; vertical-align: baseline\; text-align: initial\; -webkit-tap-highlight-color: rgba(0\, 0\, 0\, 0)\; list-style-position: outside\; box-sizing: inherit\; list-style-type: disc\; margin-inline-start: 1.5em\; padding-inline-start: 0.5em\;">\n	<p class="yU1AD eBpBo XxGZC ozAti" dir="" id="viewer-anjvg656" style="background-image: initial\; background-position: initial\; background-size: initial\; background-repeat: initial\; background-attachment: initial\; background-origin: initial\; background-clip: initial\; border: 0px\; outline: 0px\; padding: 0px\; vertical-align: baseline\; text-align: initial\; -webkit-tap-highlight-color: rgba(0\, 0\, 0\, 0)\; line-height: 1.5\; min-height: auto\; text-decoration-style: solid\; text-decoration-color: rgb(0\, 0\, 0)\; box-sizing: inherit\; margin: 0px\;"><span style="font-size:16px\;"><span style="font-family:arial\;"><span class="yakoZ" style="background-image: initial\; background-position: initial\; background-size: initial\; background-repeat: initial\; background-attachment: initial\; background-origin: initial\; background-clip: initial\; border: 0px\; margin: 0px\; outline: 0px\; padding: 0px\; vertical-align: baseline\; text-align: initial\; -webkit-tap-highlight-color: rgba(0\, 0\, 0\, 0)\; display: block\; box-sizing: inherit\;"><span style="background-image: initial\; background-position: initial\; background-size: initial\; background-repeat: initial\; background-attachment: initial\; background-origin: initial\; background-clip: initial\; border: 0px\; margin: 0px\; outline: 0px\; padding: 0px\; vertical-align: baseline\; -webkit-tap-highlight-color: rgba(0\, 0\, 0\, 0)\; box-sizing: inherit\; font-weight: 700\;">Chalk Art</span></span></span></span></p>\n	</li>\n	<li aria-level="1" class="_9b43l" dir="auto" style="background-image: initial\; background-position: initial\; background-size: initial\; background-repeat: initial\; background-attachment: initial\; background-origin: initial\; background-clip: initial\; border: 0px\; margin: 0px\; outline: 0px\; padding: 0px\; vertical-align: baseline\; text-align: initial\; -webkit-tap-highlight-color: rgba(0\, 0\, 0\, 0)\; list-style-position: outside\; box-sizing: inherit\; list-style-type: disc\; margin-inline-start: 1.5em\; padding-inline-start: 0.5em\;">\n	<p class="yU1AD eBpBo XxGZC ozAti" dir="" id="viewer-ixtf1660" style="background-image: initial\; background-position: initial\; background-size: initial\; background-repeat: initial\; background-attachment: initial\; background-origin: initial\; background-clip: initial\; border: 0px\; outline: 0px\; padding: 0px\; vertical-align: baseline\; text-align: initial\; -webkit-tap-highlight-color: rgba(0\, 0\, 0\, 0)\; line-height: 1.5\; min-height: auto\; text-decoration-style: solid\; text-decoration-color: rgb(0\, 0\, 0)\; box-sizing: inherit\; margin: 0px\;"><span style="font-size:16px\;"><span style="font-family:arial\;"><span class="yakoZ" style="background-image: initial\; background-position: initial\; background-size: initial\; background-repeat: initial\; background-attachment: initial\; background-origin: initial\; background-clip: initial\; border: 0px\; margin: 0px\; outline: 0px\; padding: 0px\; vertical-align: baseline\; text-align: initial\; -webkit-tap-highlight-color: rgba(0\, 0\, 0\, 0)\; display: block\; box-sizing: inherit\;"><span style="background-image: initial\; background-position: initial\; background-size: initial\; background-repeat: initial\; background-attachment: initial\; background-origin: initial\; background-clip: initial\; border: 0px\; margin: 0px\; outline: 0px\; padding: 0px\; vertical-align: baseline\; -webkit-tap-highlight-color: rgba(0\, 0\, 0\, 0)\; box-sizing: inherit\; font-weight: 700\;">Crafts</span></span></span></span></p>\n	</li>\n</ul>\n\n<p class="yU1AD eBpBo XxGZC ozAti" dir="auto" id="viewer-j7yl6663" style="background-image: initial\; background-position: initial\; background-size: initial\; background-repeat: initial\; background-attachment: initial\; background-origin: initial\; background-clip: initial\; border: 0px\; outline: 0px\; padding: 0px\; vertical-align: baseline\; text-align: initial\; -webkit-tap-highlight-color: rgba(0\, 0\, 0\, 0)\; font-family: avenir-lt-w01_35-light1475496\, sans-serif\; font-size: 16px\; line-height: 1.5\; min-height: auto\; box-sizing: inherit\; margin: 0px\; white-space-collapse: preserve\;"><span style="font-size:16px\;"><span style="font-family:arial\;"><span class="yakoZ" style="background-image: initial\; background-position: initial\; background-size: initial\; background-repeat: initial\; background-attachment: initial\; background-origin: initial\; background-clip: initial\; border: 0px\; margin: 0px\; outline: 0px\; padding: 0px\; vertical-align: baseline\; text-align: initial\; -webkit-tap-highlight-color: rgba(0\, 0\, 0\, 0)\; display: block\; box-sizing: inherit\;"><span style="background-image: initial\; background-position: initial\; background-size: initial\; background-repeat: initial\; background-attachment: initial\; background-origin: initial\; background-clip: initial\; border: 0px\; margin: 0px\; outline: 0px\; padding: 0px\; vertical-align: baseline\; -webkit-tap-highlight-color: rgba(0\, 0\, 0\, 0)\; box-sizing: inherit\;">Don&#39\;t miss out on this wonderful community event!<br />\n<br />\n<a href="https://www.sherburnehistorycenter.org/event-details-registration/ice-cream-social-1/form">RSVP Here</a></span></span></span></span></p>\n
LOCATION:Sherburne History Center 10775 27th Ave SE Becker
UID:e.32.32483
SEQUENCE:3
DTSTAMP:20260421T214833Z
URL:http://business.elkriverchamber.org/events/details/sherburne-history-center-ice-cream-social-06-10-2025-32483
END:VEVENT

END:VCALENDAR
