BEGIN:VCALENDAR
VERSION:2.0
PRODID:-//ChamberMaster//Event Calendar 2.0//EN
METHOD:PUBLISH
X-PUBLISHED-TTL:P3D
REFRESH-INTERVAL:P3D
CALSCALE:GREGORIAN
BEGIN:VEVENT
DTSTART:20250325T213000Z
DTEND:20250325T233000Z
X-MICROSOFT-CDO-ALLDAYEVENT:FALSE
SUMMARY:Speed Networking Event
DESCRIPTION:Join Us for an Exciting Speed Networking Event!\n\n\n\nSt. Cloud Financial Credit Union and Wright County Economic Development Partnership are thrilled to co-host a dynamic speed networking event at Fox Hollow Golf Course!\n\nBring plenty of business cards\, share your latest promotions\, and get ready to connect with other passionate professionals. This is a fantastic opportunity to expand your network\, exchange ideas\, and discover collaborations to help your business flourish.\n\nEnjoy delicious hors d'oeuvres\, a cash bar\, and exciting giveaways throughout the evening. Don't miss out on this chance to make meaningful connections and grow your business community.
X-ALT-DESC;FMTTYPE=text/html:<div class="panel-heading s-title " style="box-sizing: border-box\; color: rgb(52\, 80\, 115)\; font-family: Roboto\, sans-serif\; font-size: 16px\; background-color: rgb(255\, 255\, 255)\;">\n<h3 class="s-title" style="box-sizing: border-box\; margin-block: 0.5rem 1rem\; font-family: inherit\; font-weight: 500\; line-height: 1.2\; color: inherit\; font-size: 55px\;"><strong><span style="font-size:22px\;"><span style="font-family:arial\;">Join Us for an Exciting Speed Networking Event!</span></span></strong></h3>\n</div>\n\n<div class="panel-body s-body label-txt-color" style="box-sizing: border-box\; color: rgb(52\, 80\, 115)\; font-family: Roboto\, sans-serif\; font-size: 16px\; background-color: rgb(255\, 255\, 255)\;">\n<p class="x_MsoNormal" style="box-sizing: border-box\; margin-block: 0px 0.9rem\;"><span style="font-size:16px\;"><span style="font-family:arial\;">St. Cloud Financial Credit Union and Wright County Economic Development Partnership are thrilled to co-host a dynamic speed networking event at Fox Hollow Golf Course!</span></span></p>\n\n<p class="x_MsoNormal" style="box-sizing: border-box\; margin-block: 0px 0.9rem\;"><span style="font-size:16px\;"><span style="font-family:arial\;">Bring plenty of business cards\, share your latest promotions\, and get ready to connect with other passionate professionals. This is a fantastic opportunity to expand your network\, exchange ideas\, and discover collaborations to help your business flourish.</span></span></p>\n\n<p class="x_MsoNormal" style="box-sizing: border-box\; margin-block: 0px 0.9rem\;"><span style="font-size:16px\;"><span style="font-family:arial\;">Enjoy delicious hors d&#39\;oeuvres\, a cash bar\, and exciting giveaways throughout the evening. Don&#39\;t miss out on this chance to make meaningful connections and grow your business community.</span></span></p>\n</div>\n
LOCATION:Fox Hollow Golf Course 4780 Palmgren Lane NE St. Michael
UID:e.32.32292
SEQUENCE:3
DTSTAMP:20260423T085626Z
URL:http://business.elkriverchamber.org/events/details/speed-networking-event-32292
END:VEVENT

END:VCALENDAR
