BEGIN:VCALENDAR
VERSION:2.0
PRODID:-//ChamberMaster//Event Calendar 2.0//EN
METHOD:PUBLISH
X-PUBLISHED-TTL:P3D
REFRESH-INTERVAL:P3D
CALSCALE:GREGORIAN
BEGIN:VEVENT
DTSTART:20250503T140000Z
DTEND:20250503T200000Z
X-MICROSOFT-CDO-ALLDAYEVENT:FALSE
SUMMARY:Spring Makers Market
DESCRIPTION:Spring is in the air and so is creativity! Join us for our annual Spring Makers Market\, where local artists and makers showcase their one-of-a-kind treasures. From handmade crafts to unique gifts\, there is something for everyone. The market is on Saturday\, May 3 from 9:00 a.m. to 3:00 p.m. in our Field House. A special thank you to Power Within Chiro for being our signature sponsor of this year's Spring Makers Market!
X-ALT-DESC;FMTTYPE=text/html:Spring is in the air and so is creativity! Join us for our annual Spring Makers Market\, where local artists and makers showcase their one-of-a-kind treasures. From handmade crafts to unique gifts\, there is something for everyone. The market is on Saturday\, May 3 from 9:00 a.m. to 3:00 p.m. in our Field House. A special thank you to Power Within Chiro for being our signature sponsor of this year&rsquo\;s Spring Makers Market!
LOCATION:Furniture and Things Community Event Center
UID:e.32.32312
SEQUENCE:3
DTSTAMP:20260421T194901Z
URL:http://business.elkriverchamber.org/events/details/spring-makers-market-05-03-2025-32312
END:VEVENT

END:VCALENDAR
