BEGIN:VCALENDAR
VERSION:2.0
PRODID:-//ChamberMaster//Event Calendar 2.0//EN
METHOD:PUBLISH
X-PUBLISHED-TTL:P3D
REFRESH-INTERVAL:P3D
CALSCALE:GREGORIAN
BEGIN:VEVENT
DTSTART:20250503T163000Z
DTEND:20250503T180000Z
X-MICROSOFT-CDO-ALLDAYEVENT:FALSE
SUMMARY:Spring Tea Party
DESCRIPTION:Join us for a Spring Tea Party!\n\n\nTea\, Luncheon\, Entertainment\, & Handicraft\n\nRegistration Required.\n\nAges 12+\n\n \n\nRegister Here
X-ALT-DESC;FMTTYPE=text/html:<div><span style="font-family:arial\;"><span style="font-size: 16px\; white-space-collapse: preserve\;">Join us for a Spring Tea Party!</span></span></div>\n\n<div>\n<p class="yU1AD eBpBo XxGZC ozAti" dir="auto" id="viewer-6qvhl458" style="background-image: initial\; background-position: initial\; background-size: initial\; background-repeat: initial\; background-attachment: initial\; background-origin: initial\; background-clip: initial\; border: 0px\; outline: 0px\; padding: 0px\; vertical-align: baseline\; text-align: initial\; -webkit-tap-highlight-color: rgba(0\, 0\, 0\, 0)\; font-family: avenir-lt-w01_35-light1475496\, sans-serif\; font-size: 16px\; line-height: 1.5\; min-height: auto\; box-sizing: inherit\; margin: 0px\; white-space-collapse: preserve\;"><span style="font-family:arial\;"><span class="yakoZ" style="background-image: initial\; background-position: initial\; background-size: initial\; background-repeat: initial\; background-attachment: initial\; background-origin: initial\; background-clip: initial\; border: 0px\; margin: 0px\; outline: 0px\; padding: 0px\; vertical-align: baseline\; text-align: initial\; -webkit-tap-highlight-color: rgba(0\, 0\, 0\, 0)\; display: block\; box-sizing: inherit\;"><span style="background-image: initial\; background-position: initial\; background-size: initial\; background-repeat: initial\; background-attachment: initial\; background-origin: initial\; background-clip: initial\; border: 0px\; margin: 0px\; outline: 0px\; padding: 0px\; vertical-align: baseline\; -webkit-tap-highlight-color: rgba(0\, 0\, 0\, 0)\; box-sizing: inherit\;">Tea\, Luncheon\, Entertainment\, &amp\; Handicraft</span></span></span></p>\n\n<p class="yU1AD eBpBo XxGZC ozAti" dir="auto" id="viewer-t0me6465" style="background-image: initial\; background-position: initial\; background-size: initial\; background-repeat: initial\; background-attachment: initial\; background-origin: initial\; background-clip: initial\; border: 0px\; outline: 0px\; padding: 0px\; vertical-align: baseline\; text-align: initial\; -webkit-tap-highlight-color: rgba(0\, 0\, 0\, 0)\; font-family: avenir-lt-w01_35-light1475496\, sans-serif\; font-size: 16px\; line-height: 1.5\; min-height: auto\; box-sizing: inherit\; margin: 0px\; white-space-collapse: preserve\;"><span style="font-family:arial\;"><span class="yakoZ" style="background-image: initial\; background-position: initial\; background-size: initial\; background-repeat: initial\; background-attachment: initial\; background-origin: initial\; background-clip: initial\; border: 0px\; margin: 0px\; outline: 0px\; padding: 0px\; vertical-align: baseline\; text-align: initial\; -webkit-tap-highlight-color: rgba(0\, 0\, 0\, 0)\; display: block\; box-sizing: inherit\;"><span style="background-image: initial\; background-position: initial\; background-size: initial\; background-repeat: initial\; background-attachment: initial\; background-origin: initial\; background-clip: initial\; border: 0px\; margin: 0px\; outline: 0px\; padding: 0px\; vertical-align: baseline\; -webkit-tap-highlight-color: rgba(0\, 0\, 0\, 0)\; box-sizing: inherit\;">Registration Required.</span></span></span></p>\n</div>\n<span style="font-family:arial\;"><span style="font-size: 16px\; white-space-collapse: preserve\;">Ages 12+</span></span>\n\n<div>&nbsp\;</div>\n\n<div><span style="font-family:arial\;"><a href="https://www.sherburnehistorycenter.org/event-details-registration/spring-tea-party"><span style="font-size: 16px\; white-space-collapse: preserve\;">Register Here</span></a></span></div>\n
LOCATION:Sherburne History Center 10775 27th Ave SE Becker
UID:e.32.32446
SEQUENCE:3
DTSTAMP:20260421T211405Z
URL:http://business.elkriverchamber.org/events/details/spring-tea-party-32446
END:VEVENT

END:VCALENDAR
