BEGIN:VCALENDAR
VERSION:2.0
PRODID:-//ChamberMaster//Event Calendar 2.0//EN
METHOD:PUBLISH
X-PUBLISHED-TTL:P3D
REFRESH-INTERVAL:P3D
CALSCALE:GREGORIAN
BEGIN:VEVENT
DTSTART:20250222T160000Z
DTEND:20250222T180000Z
X-MICROSOFT-CDO-ALLDAYEVENT:FALSE
SUMMARY:The Sherburne County History Center is celebrating the county’s 169th birthday with a kids’ carnival
DESCRIPTION:Come one\, come all! The Sherburne County History Center is celebrating the county's 169th birthday with a kids' carnival party on February 22 from 10am to noon. Festivities include birthday cake\, carnival games\, crafts\, prizes\, a caricature artist\, and a mini golf course. Please RSVP on our website at www.sherburnehistorycenter.org. \n\n \n\nSherburne County became a county on February 25\, 1856.  In 2012\, the Sherburne County Commissioners issued a proclamation declaring February 25\, Sherburne History Day. A little known fact is that the county seat was originally in Big Lake\, but was moved to Elk River in 1865. \n\n \n\nWe will be celebrating this special day the Saturday before on February 22.  We hope all Sherburne County residents recognize the importance of this date and contemplate the many events and individuals that have contributed to the well-being of Sherburne County. \n\n\n\nEmma Hoard\n\n\n\n\nPrograms Coordinator\n\n763-261-4433\n\nwww.sherburnehistorycenter.org
X-ALT-DESC;FMTTYPE=text/html:<div style="border: 0px\; font-variant-numeric: inherit\; font-variant-east-asian: inherit\; font-variant-alternates: inherit\; font-variant-position: inherit\; font-variant-emoji: inherit\; font-stretch: inherit\; font-size: 15px\; line-height: inherit\; font-family: &quot\;Segoe UI&quot\;\, &quot\;Segoe UI Web (West European)&quot\;\, -apple-system\, BlinkMacSystemFont\, Roboto\, &quot\;Helvetica Neue&quot\;\, sans-serif\; font-optical-sizing: inherit\; font-size-adjust: inherit\; font-kerning: inherit\; font-feature-settings: inherit\; font-variation-settings: inherit\; margin: 0px\; padding: 0px\; vertical-align: baseline\; color: rgb(36\, 36\, 36)\; background-color: rgb(255\, 255\, 255)\;"><span style="font-size:18px\;"><span style="font-family:arial\;"><span data-olk-copy-source="MessageBody" style="border: 0px\; font-style: inherit\; font-variant: inherit\; font-weight: inherit\; font-stretch: inherit\; line-height: inherit\; font-optical-sizing: inherit\; font-size-adjust: inherit\; font-kerning: inherit\; font-feature-settings: inherit\; font-variation-settings: inherit\; margin: 0px\; padding: 0px\; vertical-align: baseline\; color: inherit\; text-indent: 0.5in\;">Come one\, come all! The Sherburne County History Center is celebrating the county&rsquo\;s 169</span><sup style="text-indent: 0.5in\;">th</sup><span style="border: 0px\; font-style: inherit\; font-variant: inherit\; font-weight: inherit\; font-stretch: inherit\; line-height: inherit\; font-optical-sizing: inherit\; font-size-adjust: inherit\; font-kerning: inherit\; font-feature-settings: inherit\; font-variation-settings: inherit\; margin: 0px\; padding: 0px\; vertical-align: baseline\; color: inherit\; text-indent: 0.5in\;">&nbsp\;birthday with a kids&rsquo\; carnival party on&nbsp\;<b>February 22 from 10am to noon</b>. Festivities include birthday cake\, carnival games\, crafts\, prizes\, a caricature artist\, and a mini golf course. Please RSVP on our website at&nbsp\;</span><a data-auth="NotApplicable" data-linkindex="0" href="http://www.sherburnehistorycenter.org/" rel="noopener noreferrer" style="border: 0px\; font: inherit\; margin: 0px\; padding: 0px\; vertical-align: baseline\; text-indent: 0.5in\; color: blue !important\;" target="_blank" title="http://www.sherburnehistorycenter.org">www.sherburnehistorycenter.org</a><span style="border: 0px\; font-style: inherit\; font-variant: inherit\; font-weight: inherit\; font-stretch: inherit\; line-height: inherit\; font-optical-sizing: inherit\; font-size-adjust: inherit\; font-kerning: inherit\; font-feature-settings: inherit\; font-variation-settings: inherit\; margin: 0px\; padding: 0px\; vertical-align: baseline\; color: inherit\; text-indent: 0.5in\;">.</span>&nbsp\;</span></span></div>\n\n<div style="border: 0px\; font-variant-numeric: inherit\; font-variant-east-asian: inherit\; font-variant-alternates: inherit\; font-variant-position: inherit\; font-variant-emoji: inherit\; font-stretch: inherit\; font-size: 15px\; line-height: inherit\; font-family: &quot\;Segoe UI&quot\;\, &quot\;Segoe UI Web (West European)&quot\;\, -apple-system\, BlinkMacSystemFont\, Roboto\, &quot\;Helvetica Neue&quot\;\, sans-serif\; font-optical-sizing: inherit\; font-size-adjust: inherit\; font-kerning: inherit\; font-feature-settings: inherit\; font-variation-settings: inherit\; margin: 0px\; padding: 0px\; vertical-align: baseline\; color: rgb(36\, 36\, 36)\; background-color: rgb(255\, 255\, 255)\;">&nbsp\;</div>\n\n<div style="border: 0px\; font-variant-numeric: inherit\; font-variant-east-asian: inherit\; font-variant-alternates: inherit\; font-variant-position: inherit\; font-variant-emoji: inherit\; font-stretch: inherit\; font-size: 15px\; line-height: inherit\; font-family: &quot\;Segoe UI&quot\;\, &quot\;Segoe UI Web (West European)&quot\;\, -apple-system\, BlinkMacSystemFont\, Roboto\, &quot\;Helvetica Neue&quot\;\, sans-serif\; font-optical-sizing: inherit\; font-size-adjust: inherit\; font-kerning: inherit\; font-feature-settings: inherit\; font-variation-settings: inherit\; margin: 0px\; padding: 0px\; vertical-align: baseline\; color: rgb(36\, 36\, 36)\; background-color: rgb(255\, 255\, 255)\;"><span style="font-size:18px\;"><span style="font-family:arial\;">Sherburne County became a county on February 25\, 1856.&nbsp\; In 2012\, the Sherburne County Commissioners issued a proclamation&nbsp\;declaring February 25\, Sherburne History Day. A little known fact is that the county seat was originally in Big Lake\, but was moved to Elk River in 1865.&nbsp\;</span></span></div>\n\n<div style="border: 0px\; font-variant-numeric: inherit\; font-variant-east-asian: inherit\; font-variant-alternates: inherit\; font-variant-position: inherit\; font-variant-emoji: inherit\; font-stretch: inherit\; font-size: 15px\; line-height: inherit\; font-family: &quot\;Segoe UI&quot\;\, &quot\;Segoe UI Web (West European)&quot\;\, -apple-system\, BlinkMacSystemFont\, Roboto\, &quot\;Helvetica Neue&quot\;\, sans-serif\; font-optical-sizing: inherit\; font-size-adjust: inherit\; font-kerning: inherit\; font-feature-settings: inherit\; font-variation-settings: inherit\; margin: 0px\; padding: 0px\; vertical-align: baseline\; color: rgb(36\, 36\, 36)\; background-color: rgb(255\, 255\, 255)\;">&nbsp\;</div>\n\n<div style="border: 0px\; font-variant-numeric: inherit\; font-variant-east-asian: inherit\; font-variant-alternates: inherit\; font-variant-position: inherit\; font-variant-emoji: inherit\; font-stretch: inherit\; font-size: 15px\; line-height: inherit\; font-family: &quot\;Segoe UI&quot\;\, &quot\;Segoe UI Web (West European)&quot\;\, -apple-system\, BlinkMacSystemFont\, Roboto\, &quot\;Helvetica Neue&quot\;\, sans-serif\; font-optical-sizing: inherit\; font-size-adjust: inherit\; font-kerning: inherit\; font-feature-settings: inherit\; font-variation-settings: inherit\; margin: 0px\; padding: 0px\; vertical-align: baseline\; color: rgb(36\, 36\, 36)\; background-color: rgb(255\, 255\, 255)\;"><span style="font-size:18px\;"><span style="font-family:arial\;">We will be&nbsp\;celebrating this special day the Saturday before on February 22.&nbsp\; We hope all Sherburne County residents recognize the importance of this date and contemplate the many events and individuals that have contributed&nbsp\;to the well-being of Sherburne County.&nbsp\;</span></span></div>\n\n<div style="border: 0px\; font-variant-numeric: inherit\; font-variant-east-asian: inherit\; font-variant-alternates: inherit\; font-variant-position: inherit\; font-variant-emoji: inherit\; font-stretch: inherit\; font-size: 15px\; line-height: inherit\; font-family: &quot\;Segoe UI&quot\;\, &quot\;Segoe UI Web (West European)&quot\;\, -apple-system\, BlinkMacSystemFont\, Roboto\, &quot\;Helvetica Neue&quot\;\, sans-serif\; font-optical-sizing: inherit\; font-size-adjust: inherit\; font-kerning: inherit\; font-feature-settings: inherit\; font-variation-settings: inherit\; margin: 0px\; padding: 0px\; vertical-align: baseline\; color: rgb(36\, 36\, 36)\; background-color: rgb(255\, 255\, 255)\;"><br />\n<span style="font-size:18px\;"><span style="font-family:arial\;"><b>Emma Hoard</b></span></span></div>\n\n<div style="border: 0px\; font-variant-numeric: inherit\; font-variant-east-asian: inherit\; font-variant-alternates: inherit\; font-variant-position: inherit\; font-variant-emoji: inherit\; font-stretch: inherit\; font-size: 15px\; line-height: inherit\; font-family: &quot\;Segoe UI&quot\;\, &quot\;Segoe UI Web (West European)&quot\;\, -apple-system\, BlinkMacSystemFont\, Roboto\, &quot\;Helvetica Neue&quot\;\, sans-serif\; font-optical-sizing: inherit\; font-size-adjust: inherit\; font-kerning: inherit\; font-feature-settings: inherit\; font-variation-settings: inherit\; margin: 0px\; padding: 0px\; vertical-align: baseline\; color: rgb(36\, 36\, 36)\; background-color: rgb(255\, 255\, 255)\;">\n<div class="x_gmail_signature" data-smartmail="gmail_signature" dir="ltr" style="border: 0px\; font: inherit\; margin: 0px\; padding: 0px\; vertical-align: baseline\; color: inherit\;">\n<div dir="ltr" style="border: 0px\; font: inherit\; margin: 0px\; padding: 0px\; vertical-align: baseline\; color: inherit\;">\n<div style="border: 0px\; font: inherit\; margin: 0px\; padding: 0px\; vertical-align: baseline\; color: inherit\;"><span style="font-size:18px\;"><span style="font-family:arial\;"><i>Programs Coordinator</i></span></span></div>\n\n<div style="border: 0px\; font: inherit\; margin: 0px\; padding: 0px\; vertical-align: baseline\; color: inherit\;"><span style="font-size:18px\;"><span style="font-family:arial\;">7<span style="color: rgb(36\, 36\, 36)\; background-color: rgb(255\, 255\, 255)\;">63-261-4433</span><br />\n<a data-auth="NotApplicable" data-linkindex="1" href="http://www.sherburnehistorycenter.org/" rel="noopener noreferrer" style="font: inherit\; border: 0px\; margin: 0px\; padding: 0px\; vertical-align: baseline\;" target="_blank" title="http://www.sherburnehistorycenter.org">www.sherburnehistorycenter.org</a></span></span></div>\n</div>\n</div>\n</div>\n
LOCATION:
UID:e.32.32288
SEQUENCE:3
DTSTAMP:20260421T103208Z
URL:http://business.elkriverchamber.org/events/details/the-sherburne-county-history-center-is-celebrating-the-county-s-169th-birthday-with-a-kids-carnival-32288
END:VEVENT

END:VCALENDAR
