BEGIN:VCALENDAR
VERSION:2.0
PRODID:-//ChamberMaster//Event Calendar 2.0//EN
METHOD:PUBLISH
X-PUBLISHED-TTL:P3D
REFRESH-INTERVAL:P3D
CALSCALE:GREGORIAN
BEGIN:VEVENT
DTSTART:20250212T160000Z
DTEND:20250212T170000Z
X-MICROSOFT-CDO-ALLDAYEVENT:FALSE
SUMMARY:Valentine's Day Party @ Main Street Family Services
DESCRIPTION:Family Resource Center Valentine's Day Event\n\nJoin Us for a Free and Fun Celebration!\n\nWe are excited to invite your family to join us at our Valentine's Day Cookie Decorating and Card Making Party! This is a wonderful time to bring families together and celebrate love and friendship. Everyone is welcome to participate in this fun and FREE event!\n\nWe will be decorating delicious heart-shaped cookies! We will provide all the necessary supplies\, including cookies\, frosting\, and a variety of fun toppings. We will also provide a variety of colorful paper and stickers for you to design heartfelt cards for your loved ones.\n\nEvent Details\n\n\nDate: Wednesday\, February 12th\, 2025\n\nTime: 10:00am-11:00am\n\nLocation:\n\nMain Street Family Resource Center\n\n400 Jackson Street NW Suite 106\n\nElk River\, MN 55330\n\n\nNo registration is required just bring your enthusiasm and creativity! We look forward to seeing you there and celebrating a fun Valentine's Day event together!\n\nFor more information\, please contact shari.ley@mainstreetfamilyservices.org
X-ALT-DESC;FMTTYPE=text/html:<h3 class="_7ATl0g aZskFA u16U_g mKhvSg" style="box-sizing: border-box\; margin: 0px 0px 0.75em\; padding: 0px 0px 10px\; border: 0px\; outline: 0px\; font-size: 27px\; text-size-adjust: 100%\; vertical-align: baseline\; background: rgb(255\, 255\, 255)\; color: rgb(20\, 24\, 39)\; line-height: 1em\; font-weight: var(--tec-font-weight-bold)\; font-family: &quot\;Helvetica Neue&quot\;\, Helvetica\, -apple-system\, BlinkMacSystemFont\, Roboto\, Arial\, sans-serif\;"><strong><span style="font-size:18px\;">Fa<span style="font-family:arial\;">mily Resource Center Valentine&rsquo\;s Day Event</span></span></strong></h3>\n\n<h4 class="_5Gynyg aZskFA u16U_g mKhvSg" style="box-sizing: border-box\; margin: 0px 0px 0.75em\; padding: 0px 0px 10px\; border: 0px\; outline: 0px\; font-size: 22px\; text-size-adjust: 100%\; vertical-align: baseline\; background: rgb(255\, 255\, 255)\; color: rgb(20\, 24\, 39)\; line-height: 1em\; font-weight: var(--tec-font-weight-bold)\; font-family: &quot\;Helvetica Neue&quot\;\, Helvetica\, -apple-system\, BlinkMacSystemFont\, Roboto\, Arial\, sans-serif\;"><span style="font-size:18px\;"><span style="font-family:arial\;">Join Us for a Free and Fun Celebration!</span></span></h4>\n\n<p class="aWBg0w aZskFA u16U_g mKhvSg" style="box-sizing: border-box\; margin-top: 0px\; margin-right: 0px\; margin-bottom: var(--tec-spacer-3)\; margin-left: 0px\; padding: 0px 0px 1em\; border: 0px\; outline: 0px\; font-size: var(--tec-font-size-4)\; text-size-adjust: 100%\; vertical-align: baseline\; background: rgb(255\, 255\, 255)\; line-height: var(--tec-line-height-2)\; color: rgb(20\, 24\, 39)\; font-family: &quot\;Helvetica Neue&quot\;\, Helvetica\, -apple-system\, BlinkMacSystemFont\, Roboto\, Arial\, sans-serif\;"><span style="font-size:18px\;"><span style="font-family:arial\;">We are excited to invite your family to join us at our&nbsp\;<b style="box-sizing: border-box\; margin: 0px\; padding: 0px\; border: 0px\; outline: 0px\; font-size: 18px\; text-size-adjust: 100%\; vertical-align: baseline\; background: transparent\;">Valentine&rsquo\;s Day Cookie Decorating and Card Making Party!</b>&nbsp\;This is a wonderful time to bring families together and celebrate love and friendship. Everyone is welcome to participate in this fun and FREE event!</span></span></p>\n\n<p class="aWBg0w aZskFA u16U_g mKhvSg" style="box-sizing: border-box\; margin-top: 0px\; margin-right: 0px\; margin-bottom: var(--tec-spacer-3)\; margin-left: 0px\; padding: 0px 0px 1em\; border: 0px\; outline: 0px\; font-size: var(--tec-font-size-4)\; text-size-adjust: 100%\; vertical-align: baseline\; background: rgb(255\, 255\, 255)\; line-height: var(--tec-line-height-2)\; color: rgb(20\, 24\, 39)\; font-family: &quot\;Helvetica Neue&quot\;\, Helvetica\, -apple-system\, BlinkMacSystemFont\, Roboto\, Arial\, sans-serif\;"><span style="font-size:18px\;"><span style="font-family:arial\;">We will be decorating delicious heart-shaped cookies! We will provide all the necessary supplies\, including cookies\, frosting\, and a variety of fun toppings. We will also provide a variety of colorful paper and stickers for you to design heartfelt cards for your loved ones.</span></span></p>\n\n<h4 class="_5Gynyg aZskFA u16U_g mKhvSg" style="box-sizing: border-box\; margin: 0px 0px 0.75em\; padding: 0px 0px 10px\; border: 0px\; outline: 0px\; font-size: 22px\; text-size-adjust: 100%\; vertical-align: baseline\; background: rgb(255\, 255\, 255)\; color: rgb(20\, 24\, 39)\; line-height: 1em\; font-weight: var(--tec-font-weight-bold)\; font-family: &quot\;Helvetica Neue&quot\;\, Helvetica\, -apple-system\, BlinkMacSystemFont\, Roboto\, Arial\, sans-serif\;"><span style="font-size:18px\;"><span style="font-family:arial\;">Event Details</span></span></h4>\n\n<div class="aWBg0w aZskFA u16U_g mKhvSg" style="box-sizing: border-box\; margin: 0px\; padding: 0px\; border: 0px\; outline: 0px\; font-size: 16px\; text-size-adjust: 100%\; vertical-align: baseline\; background: rgb(255\, 255\, 255)\; color: rgb(20\, 24\, 39)\; font-family: &quot\;Helvetica Neue&quot\;\, Helvetica\, -apple-system\, BlinkMacSystemFont\, Roboto\, Arial\, sans-serif\;">\n<p class="aWBg0w aZskFA u16U_g mKhvSg" style="box-sizing: border-box\; margin-top: 0px\; margin-right: 0px\; margin-bottom: var(--tec-spacer-3)\; margin-left: 0px\; padding: 0px 0px 1em\; border: 0px\; outline: 0px\; font-size: var(--tec-font-size-4)\; text-size-adjust: 100%\; vertical-align: baseline\; background: transparent\; line-height: var(--tec-line-height-2)\;"><span style="font-size:18px\;"><span style="font-family:arial\;"><b style="box-sizing: border-box\; margin: 0px\; padding: 0px\; border: 0px\; outline: 0px\; font-size: 18px\; text-size-adjust: 100%\; vertical-align: baseline\; background: transparent\;">Date: Wednesday\, February 12th\, 2025</b></span></span></p>\n\n<p class="aWBg0w aZskFA u16U_g mKhvSg" style="box-sizing: border-box\; margin-top: 0px\; margin-right: 0px\; margin-bottom: var(--tec-spacer-3)\; margin-left: 0px\; padding: 0px 0px 1em\; border: 0px\; outline: 0px\; font-size: var(--tec-font-size-4)\; text-size-adjust: 100%\; vertical-align: baseline\; background: transparent\; line-height: var(--tec-line-height-2)\;"><span style="font-size:18px\;"><span style="font-family:arial\;"><b style="box-sizing: border-box\; margin: 0px\; padding: 0px\; border: 0px\; outline: 0px\; font-size: 18px\; text-size-adjust: 100%\; vertical-align: baseline\; background: transparent\;">Time:</b>&nbsp\;10:00am-11:00am</span></span></p>\n\n<p class="aWBg0w aZskFA u16U_g mKhvSg" style="box-sizing: border-box\; margin-top: 0px\; margin-right: 0px\; margin-bottom: var(--tec-spacer-6)\; margin-left: 0px\; padding: 0px\; border: 0px\; outline: 0px\; font-size: var(--tec-font-size-4)\; text-size-adjust: 100%\; vertical-align: baseline\; background: transparent\; line-height: var(--tec-line-height-2)\;"><span style="font-size:18px\;"><span style="font-family:arial\;"><b style="box-sizing: border-box\; margin: 0px\; padding: 0px\; border: 0px\; outline: 0px\; font-size: 18px\; text-size-adjust: 100%\; vertical-align: baseline\; background: transparent\;">Location:</b><br style="box-sizing: border-box\;" />\nMain Street Family Resource Center<br style="box-sizing: border-box\;" />\n400 Jackson Street NW Suite 106<br style="box-sizing: border-box\;" />\nElk River\, MN 55330</span></span></p>\n</div>\n\n<p class="aWBg0w aZskFA u16U_g mKhvSg" style="box-sizing: border-box\; margin-top: 0px\; margin-right: 0px\; margin-bottom: var(--tec-spacer-3)\; margin-left: 0px\; padding: 0px 0px 1em\; border: 0px\; outline: 0px\; font-size: var(--tec-font-size-4)\; text-size-adjust: 100%\; vertical-align: baseline\; background: rgb(255\, 255\, 255)\; line-height: var(--tec-line-height-2)\; color: rgb(20\, 24\, 39)\; font-family: &quot\;Helvetica Neue&quot\;\, Helvetica\, -apple-system\, BlinkMacSystemFont\, Roboto\, Arial\, sans-serif\;"><span style="font-size:18px\;"><span style="font-family:arial\;">No registration is required&mdash\;just bring your enthusiasm and creativity! We look forward to seeing you there and celebrating a fun Valentine&rsquo\;s Day event together!</span></span></p>\n\n<p class="aWBg0w aZskFA u16U_g mKhvSg" style="box-sizing: border-box\; margin-top: 0px\; margin-right: 0px\; margin-bottom: var(--tec-spacer-3)\; margin-left: 0px\; padding: 0px 0px 1em\; border: 0px\; outline: 0px\; font-size: var(--tec-font-size-4)\; text-size-adjust: 100%\; vertical-align: baseline\; background: rgb(255\, 255\, 255)\; line-height: var(--tec-line-height-2)\; color: rgb(20\, 24\, 39)\; font-family: &quot\;Helvetica Neue&quot\;\, Helvetica\, -apple-system\, BlinkMacSystemFont\, Roboto\, Arial\, sans-serif\;"><span style="font-size:18px\;"><span style="font-family:arial\;">For more information\, please contact&nbsp\;<a href="mailto:shari.ley@mainstreetfamilyservices.org" style="box-sizing: border-box\; margin: 0px\; padding: 0px\; border-top: 0px\; border-right: 0px\; border-bottom: 1px solid var(--tec-color-link-accent)\; border-left: 0px\; border-image: initial\; outline: 0px\; font-size: 18px\; text-size-adjust: 100%\; vertical-align: baseline\; background: transparent\; text-decoration-line: none\; transition: var(--tec-transition-color)\;">shari.ley@mainstreetfamilyservices.org</a></span></span></p>\n
LOCATION:
UID:e.32.32287
SEQUENCE:3
DTSTAMP:20260421T085806Z
URL:http://business.elkriverchamber.org/events/details/valentine-s-day-party-main-street-family-services-32287
END:VEVENT

END:VCALENDAR
