BEGIN:VCALENDAR
VERSION:2.0
PRODID:-//ChamberMaster//Event Calendar 2.0//EN
METHOD:PUBLISH
X-PUBLISHED-TTL:P3D
REFRESH-INTERVAL:P3D
CALSCALE:GREGORIAN
BEGIN:VEVENT
DTSTART:20250125T210000Z
DTEND:20250126T020000Z
X-MICROSOFT-CDO-ALLDAYEVENT:FALSE
SUMMARY:WinterLight Festival
DESCRIPTION:Join us for our 3rd Annual WinterLight Festival!\n\nLight up the cold winter night with a celebration of warmth\, light\, and laughter! Gather your loved ones and join us for a FREE family event that brings together the best of indoor comfort and outdoor excitement.\n\n\n\nExperience the Fun:\nHay Rides: Snuggle up and enjoy a charming ride through the crisp winter air.\n\nIce Skating: Glide across the ice with family and friends\, creating memories to treasure.\n\nBingo: Warm up indoors with rounds of Bingo for all ages and great prizes!\n\nCandlelight Snowshoeing: Embrace the magic of a snow-covered trail lit by glowing candles.\n\nWalking Trails: Wander through acres of beautifully lit pathways\, a sight to behold!\n\nA giant bonfire will be roaring\, the perfect spot to gather and share stories\n\nIndulge in a comforting soup supper or treat yourself to something sweet at our Hot Cocoa Bar and freshly made Mini Doughnuts.\n\n\n\nAnd that's not all there's SNOW much more fun activities planned!\n\nBundle up\, invite a friend\, bring your sense of adventure\, and let WinterLight Festival be the highlight of your season. It's a night you won't want to miss!
X-ALT-DESC;FMTTYPE=text/html:<p><strong>Join us for our 3rd Annual WinterLight Festival!</strong></p>\n\n<p>Light up the cold winter night with a celebration of warmth\, light\, and laughter! Gather your loved ones and join us for a FREE family event that brings together the best of indoor comfort and outdoor excitement.<br />\n<br />\n<strong>Experience the Fun:</strong></p>\n<strong>Hay Rides:</strong> Snuggle up and enjoy a charming ride through the crisp winter air.<br />\n<strong>Ice Skating:</strong> Glide across the ice with family and friends\, creating memories to treasure.<br />\n<strong>Bingo:</strong> Warm up indoors with rounds of Bingo for all ages and great prizes!<br />\n<strong>Candlelight Snowshoeing:</strong> Embrace the magic of a snow-covered trail lit by glowing candles.<br />\n<strong>Walking Trails:</strong> Wander through acres of beautifully lit pathways\, a sight to behold!<br />\nA <strong>giant bonfire</strong> will be roaring\, the perfect spot to gather and share stories\n\n<p>Indulge in a comforting <strong>soup supper</strong> or treat yourself to something sweet at our <strong>Hot Cocoa Bar</strong> and freshly made <strong>Mini Doughnuts</strong>.<br />\n<br />\nAnd that&#39\;s not all&mdash\;there&rsquo\;s <strong>SNOW much more</strong>&nbsp\;fun activities planned!</p>\n\n<p><em><strong>Bundle up\, invite a friend\, bring your sense of adventure\, and let WinterLight Festival be the highlight of your season. It&rsquo\;s a night you won&rsquo\;t want to miss!</strong></em></p>\n\n<p>&nbsp\;</p>\n
LOCATION:Living Waters Church: 21246 Meadowvale Rd NW\, Elk River\, MN 55330
UID:e.32.32256
SEQUENCE:3
DTSTAMP:20260421T154515Z
URL:http://business.elkriverchamber.org/events/details/winterlight-festival-32256
END:VEVENT

END:VCALENDAR
