BEGIN:VCALENDAR
VERSION:2.0
PRODID:-//ChamberMaster//Event Calendar 2.0//EN
METHOD:PUBLISH
X-PUBLISHED-TTL:P3D
REFRESH-INTERVAL:P3D
CALSCALE:GREGORIAN
BEGIN:VEVENT
DTSTART:20261007T170000Z
DTEND:20261007T183000Z
X-MICROSOFT-CDO-ALLDAYEVENT:FALSE
SUMMARY:ZIMMERMAN BUSINESS COUNCIL - LUNCH
DESCRIPTION:Do you have a business in Zimmerman or serve the Zimmerman community?\n\nJoin us for a relaxed lunch and great networking with fellow professionals! Elk River Area Chamber Members are invited to connect\, share ideas\, and build relationships.\n\nNot a member yet? You're still welcome to join us! Come see what the vibrant Chamber community is all about.
X-ALT-DESC;FMTTYPE=text/html:<p data-end="75" data-start="0"><span style="font-size:16px\;"><span style="font-family:arial\;"><strong data-end="73" data-start="0">Do you have a business in Zimmerman or serve the Zimmerman community?</strong></span></span></p>\n\n<p data-end="247" data-start="77"><span style="font-size:16px\;"><span style="font-family:arial\;">Join us for a relaxed lunch and great networking with fellow professionals! Elk River Area Chamber Members are invited to connect\, share ideas\, and build relationships.</span></span></p>\n\n<p data-end="355" data-is-last-node="" data-is-only-node="" data-start="249"><span style="font-size:16px\;"><span style="font-family:arial\;"><strong data-end="305" data-start="251">Not a member yet? You&rsquo\;re still welcome to join us!</strong> Come see what the vibrant Chamber community is all about.</span></span></p>\n
LOCATION:Location TBD
UID:e.32.33182
SEQUENCE:3
DTSTAMP:20260425T143731Z
URL:http://business.elkriverchamber.org/events/details/zimmerman-business-council-10-07-2026-33182
END:VEVENT

END:VCALENDAR
