BEGIN:VCALENDAR
VERSION:2.0
PRODID:-//ChamberMaster//Event Calendar 2.0//EN
METHOD:PUBLISH
X-PUBLISHED-TTL:P3D
REFRESH-INTERVAL:P3D
CALSCALE:GREGORIAN
BEGIN:VEVENT
DTSTART:20261104T150000Z
DTEND:20261104T163000Z
X-MICROSOFT-CDO-ALLDAYEVENT:FALSE
SUMMARY:ZIMMERMAN BUSINESS COUNCIL
DESCRIPTION:Zimmerman Business Council - Business Spotlight & Networking\n\nJoin us for an upcoming Zimmerman Business Council informational meeting where local businesses gather to learn more about a fellow business in our community.\n\nDesigned for Elk River Area Chamber of Commerce members\, this casual meeting is also a great opportunity for "not yet members" to attend and connect.\n\nCome to:\n\n  Learn about another local business\n\n  Build relationships and make new connections\n\n  Strengthen the Zimmerman business community\n\nWe welcome both Chamber members and guests to join the conversation and grow their network!
X-ALT-DESC;FMTTYPE=text/html:<div class="flex max-w-full flex-col gap-4 grow">\n<div class="min-h-8 text-message relative flex w-full flex-col items-end gap-2 text-start break-words whitespace-normal [.text-message+&amp\;]:mt-1" data-message-author-role="assistant" data-message-id="5ad7eab7-b4e5-4a44-bf9b-2ea9972eda9f" data-message-model-slug="gpt-5-3" dir="auto">\n<div class="flex w-full flex-col gap-1 empty:hidden">\n<div class="markdown prose dark:prose-invert w-full wrap-break-word light markdown-new-styling">\n<p data-end="64" data-start="0"><span style="font-size: 16px\;"><span style="font-family: arial\;"><strong data-end="64" data-start="0">Zimmerman Business Council -&nbsp\;Business Spotlight &amp\; Networking</strong></span></span></p>\n\n<p data-end="230" data-start="66"><span style="font-size: 16px\;"><span style="font-family: arial\;">Join us for an upcoming&nbsp\;<strong data-end="142" data-start="90">Zimmerman Business Council informational meeting</strong>&nbsp\;where local businesses gather to learn more about a fellow business in our community.</span></span></p>\n\n<p data-end="391" data-start="232"><span style="font-size: 16px\;"><span style="font-family: arial\;">Designed for&nbsp\;<strong data-end="291" data-start="245">Elk River Area Chamber of Commerce members</strong>\, this casual meeting is also a great opportunity for&nbsp\;<strong data-end="366" data-start="345">&ldquo\;not yet members&rdquo\;</strong>&nbsp\;to attend and connect.</span></span></p>\n\n<p data-end="539" data-start="393"><span style="font-size: 16px\;"><span style="font-family: arial\;">Come to:<br data-end="404" data-start="401" />\n&bull\; Learn about another local business<br data-end="443" data-start="440" />\n&bull\; Build relationships and make new connections<br data-end="492" data-start="489" />\n&bull\; Strengthen the Zimmerman business community</span></span></p>\n\n<p data-end="636" data-is-last-node="" data-is-only-node="" data-start="541"><span style="font-size: 16px\;"><span style="font-family: arial\;">We welcome both&nbsp\;<strong data-end="587" data-start="557">Chamber members and guests</strong>&nbsp\;to join the conversation and grow their network!</span></span></p>\n</div>\n</div>\n</div>\n</div>\n\n<div class="mt-3 w-full empty:hidden">\n<div class="text-center">&nbsp\;</div>\n</div>\n
LOCATION:Station 1 Event Center Zimmerman Fire Station 26140 136th St NW
UID:e.32.33183
SEQUENCE:3
DTSTAMP:20260425T161725Z
URL:http://business.elkriverchamber.org/events/details/zimmerman-business-council-11-04-2026-33183
END:VEVENT

END:VCALENDAR
