BEGIN:VCALENDAR
VERSION:2.0
PRODID:-//ChamberMaster//Event Calendar 2.0//EN
METHOD:PUBLISH
X-PUBLISHED-TTL:P3D
REFRESH-INTERVAL:P3D
CALSCALE:GREGORIAN
BEGIN:VEVENT
DTSTART:20250604T200000Z
DTEND:20250604T220000Z
X-MICROSOFT-CDO-ALLDAYEVENT:FALSE
SUMMARY:ZIMMERMAN BUSINESS COUNCIL - Happy Hour
DESCRIPTION:Is your business located in or serves the city of Zimmerman? \n\nDo you want to know what is happening in Zimmerman?\n\nDo you want to get to know some of your business neighbors better?\n\n\n\nThis program is for you!\n\n\n\nAt the chamber we know that people do business with those they know like and trust - getting to know other businesses in Zimmerman makes good business sense. \n\n\n\n*We will be collecting food for our food shelf\, Passing the Bread. Bring an item and be entered to win the door prize!\n\n\n\nSponsored by The Bank of Elk River\, Kruse Rosby Real Estate Group and Blue Water Plumbing\, Inc.
X-ALT-DESC;FMTTYPE=text/html:<span style="font-size:14px\;"><span style="font-family:arial\;"><span style="color: rgb(35\, 31\, 32)\; background-color: rgb(255\, 255\, 255)\;">Is your business located in or serves the city of Zimmerman?&nbsp\;</span><br style="box-sizing: border-box\; color: rgb(35\, 31\, 32)\; font-family: &quot\;Fira Sans&quot\;\, sans-serif\; font-size: 16px\; background-color: rgb(255\, 255\, 255)\;" />\n<span style="color: rgb(35\, 31\, 32)\; background-color: rgb(255\, 255\, 255)\;">Do you want to know what is happening in Zimmerman?</span><br style="box-sizing: border-box\; color: rgb(35\, 31\, 32)\; font-family: &quot\;Fira Sans&quot\;\, sans-serif\; font-size: 16px\; background-color: rgb(255\, 255\, 255)\;" />\n<span style="color: rgb(35\, 31\, 32)\; background-color: rgb(255\, 255\, 255)\;">Do you want to get to know some of your business neighbors better?</span><br style="box-sizing: border-box\; color: rgb(35\, 31\, 32)\; font-family: &quot\;Fira Sans&quot\;\, sans-serif\; font-size: 16px\; background-color: rgb(255\, 255\, 255)\;" />\n<br style="box-sizing: border-box\; color: rgb(35\, 31\, 32)\; font-family: &quot\;Fira Sans&quot\;\, sans-serif\; font-size: 16px\; background-color: rgb(255\, 255\, 255)\;" />\n<span style="color: rgb(35\, 31\, 32)\; background-color: rgb(255\, 255\, 255)\;">This program is for you!</span><br style="box-sizing: border-box\; color: rgb(35\, 31\, 32)\; font-family: &quot\;Fira Sans&quot\;\, sans-serif\; font-size: 16px\; background-color: rgb(255\, 255\, 255)\;" />\n<br style="box-sizing: border-box\; color: rgb(35\, 31\, 32)\; font-family: &quot\;Fira Sans&quot\;\, sans-serif\; font-size: 16px\; background-color: rgb(255\, 255\, 255)\;" />\n<span style="color: rgb(35\, 31\, 32)\; background-color: rgb(255\, 255\, 255)\;">At the chamber we know that people do business with those they know like and trust - getting to know other businesses in Zimmerman makes good business sense.&nbsp\;</span></span></span><br />\n<br />\n*We will be collecting food for our food shelf\, Passing the Bread. Bring an item and be entered to win the door prize!<br />\n<br />\nSponsored by The Bank of Elk River\, Kruse Rosby Real Estate Group and Blue Water Plumbing\, Inc.
LOCATION:D's Smokehouse 12606 Fremont Ave\, Zimmerman
UID:e.32.31873
SEQUENCE:3
DTSTAMP:20260421T215116Z
URL:http://business.elkriverchamber.org/events/details/zimmerman-business-council-happy-hour-31873
END:VEVENT

END:VCALENDAR
