BEGIN:VCALENDAR
VERSION:2.0
PRODID:-//ChamberMaster//Event Calendar 2.0//EN
METHOD:PUBLISH
X-PUBLISHED-TTL:P3D
REFRESH-INTERVAL:P3D
CALSCALE:GREGORIAN
BEGIN:VEVENT
DTSTART:20250331T200000Z
DTEND:20250331T230000Z
X-MICROSOFT-CDO-ALLDAYEVENT:FALSE
SUMMARY:Zimmerman Business Happy Hour Networking Event
DESCRIPTION:Come and enjoy something to eat/drink and get your networking on! \n\nWe'll be gathering at Zimmerman Bar & Grill.\n\nBring your business cards!\n\n\n\nSponsored by:\n\nOff the Hook Heating and Air\n\nFirst National Bank of Milaca\n\nHometown Electrical Services\n\n\n\nWe hope to see you there!
X-ALT-DESC;FMTTYPE=text/html:<span style="font-size:16px\;"><span style="font-family:arial\;">Come and enjoy something to eat/drink and get your networking on!&nbsp\;<br />\nWe&#39\;ll be gathering at Zimmerman Bar &amp\; Grill.<br />\nBring your business cards!<br />\n<br />\nSponsored by:<br />\nOff the Hook Heating and Air<br />\nFirst National Bank of Milaca<br />\nHometown Electrical Services<br />\n<br />\nWe hope to see you there!</span></span>
LOCATION:Zimmerman Bar & Grill 13100 Fremont Ave Zimmerman
UID:e.32.32415
SEQUENCE:3
DTSTAMP:20260421T154425Z
URL:http://business.elkriverchamber.org/events/details/zimmerman-business-happy-hour-networking-event-32415
END:VEVENT

END:VCALENDAR
