BEGIN:VCALENDAR
VERSION:2.0
PRODID:-//ChamberMaster//Event Calendar 2.0//EN
METHOD:PUBLISH
X-PUBLISHED-TTL:P3D
REFRESH-INTERVAL:P3D
CALSCALE:GREGORIAN
BEGIN:VEVENT
DTSTART:20230108T180000Z
DTEND:20230108T210000Z
X-MICROSOFT-CDO-ALLDAYEVENT:FALSE
SUMMARY:American Legion Auxiliary Soup & Chili Lunch
DESCRIPTION:The Auxiliary's annual soup and chili lunch with pie for dessert features cream of potato w. bacon\, beef barley vegetable and Byerly's wild rice w/ ham.
X-ALT-DESC;FMTTYPE=text/html:The Auxiliary&#39\;s annual soup and chili lunch with pie for dessert features cream of potato w. bacon\, beef barley vegetable and Byerly&#39\;s wild rice w/ ham.&nbsp\;
LOCATION:Elk River Legion 525 Railroad Dr Elk River MN 55330
UID:e.32.30503
SEQUENCE:3
DTSTAMP:20260421T085016Z
URL:https://business.elkriverchamber.org/events/details/american-legion-auxiliary-soup-chili-lunch-30503
END:VEVENT

END:VCALENDAR
