BEGIN:VCALENDAR
VERSION:2.0
PRODID:-//ChamberMaster//Event Calendar 2.0//EN
METHOD:PUBLISH
X-PUBLISHED-TTL:P3D
REFRESH-INTERVAL:P3D
CALSCALE:GREGORIAN
BEGIN:VEVENT
DTSTART:20260414T190000Z
DTEND:20260414T200000Z
X-MICROSOFT-CDO-ALLDAYEVENT:FALSE
SUMMARY:CHAMBER 101
DESCRIPTION:Chamber 101 is your backstage pass to making the most of your membership. \n\nWhether you're brand new or simply ready to plug in more intentionally\, this session walks you through everything the Elk River Area Chamber offers\, from networking groups and signature events to marketing tools like the Member Information Center\, job board\, hot deals\, digital sign\, and more.\n\nYou'll learn how to increase visibility\, build real relationships\, and turn your membership into momentum for your business. It's informative\, interactive\, and designed to help you walk away with clear next steps and fresh energy to get involved.\n\nBecause membership isn't just something you have  it's something you use.
X-ALT-DESC;FMTTYPE=text/html:<p data-end="83" data-start="0"><strong data-end="15" data-start="0">Chamber 101</strong> is your backstage pass to making the most of your membership.&nbsp\;</p>\n\n<p data-end="380" data-start="85">Whether you&rsquo\;re brand new or simply ready to plug in more intentionally\, this session walks you through everything the Elk River Area Chamber offers\, from networking groups and signature events to marketing tools like the Member Information Center\, job board\, hot deals\, digital sign\, and more.</p>\n\n<p data-end="630" data-start="382">You&rsquo\;ll learn how to increase visibility\, build real relationships\, and turn your membership into momentum for your business. It&rsquo\;s informative\, interactive\, and designed to help you walk away with clear next steps and fresh energy to get involved.</p>\n\n<p data-end="709" data-is-last-node="" data-is-only-node="" data-start="632">Because membership isn&rsquo\;t just something you <em data-end="682" data-start="676">have</em>&hellip\; it&rsquo\;s something you <em data-end="708" data-start="703">use</em>.</p>\n
LOCATION:Elk River Area Chamber of Commerce 509 Hwy10 Elk River
UID:e.32.33174
SEQUENCE:3
DTSTAMP:20260421T133422Z
URL:https://business.elkriverchamber.org/events/details/chamber-101-33174
END:VEVENT

END:VCALENDAR
