BEGIN:VCALENDAR
VERSION:2.0
PRODID:-//ChamberMaster//Event Calendar 2.0//EN
METHOD:PUBLISH
X-PUBLISHED-TTL:P3D
REFRESH-INTERVAL:P3D
CALSCALE:GREGORIAN
BEGIN:VEVENT
DTSTART:20260404T150000Z
DTEND:20260404T170000Z
X-MICROSOFT-CDO-ALLDAYEVENT:FALSE
SUMMARY:Easter VBS
DESCRIPTION:Join us for Easter VBS. This year's theme is Thy Kingdom. We'll have our bounce castle\, sword obstacle course\, horse races\, hands on gospel activities\, songs\, skits\, lesson and lunch.
X-ALT-DESC;FMTTYPE=text/html:Join us for Easter VBS. This year&#39\;s theme is Thy Kingdom. We&#39\;ll have our bounce castle\, sword obstacle course\, horse races\, hands on gospel activities\, songs\, skits\, lesson and lunch.
LOCATION:Spectrum High School Gym 17796 Industrial Circle Elk River\, MN 55330
UID:e.32.33306
SEQUENCE:3
DTSTAMP:20260425T210641Z
URL:https://business.elkriverchamber.org/events/details/easter-vbs-33306
END:VEVENT

END:VCALENDAR
