BEGIN:VCALENDAR
VERSION:2.0
PRODID:-//ChamberMaster//Event Calendar 2.0//EN
METHOD:PUBLISH
X-PUBLISHED-TTL:P3D
REFRESH-INTERVAL:P3D
CALSCALE:GREGORIAN
BEGIN:VEVENT
DTSTART;VALUE=DATE:20260625
DTEND;VALUE=DATE:20260626
TRANSP:TRANSPARENT
X-MICROSOFT-CDO-ALLDAYEVENT:TRUE
SUMMARY:ERACC ANNUAL GOLF TOURNAMENT
DESCRIPTION:Our Theme is Let Freedom Swing!\n\nAll things America - to celebrate\n\n250 Years!\n\nUSA USA USA!\n\n \n\nGrab your clubs and answer the call\,\n\nThursday\, June 25th at Elk River Golf Club\n\nWe're celebrating 250 years of bold American spirit with a day packed full of great golf\, high-energy networking\, and all the red\, white & FUN you can handle. Whether you're chasing birdies or building powerhouse connections\, this is where business and the fairway collide in the best way possible.\n\nSponsorships are moving quickly! Don't get left in the rough while your competitors claim the spotlight. Lock in your spot today and put your brand front and center for one of the Chamber's most talked-about events of the year.
X-ALT-DESC;FMTTYPE=text/html:<p align="center" style="margin: 0px\; padding: 0px\; color: rgb(96\, 109\, 120)\; font-family: Helvetica\, Arial\, sans-serif\; font-size: 16px\; background-color: rgb(255\, 255\, 255)\; text-align: center\;"><span style="color: rgb(0\, 0\, 0)\;">Our Theme is</span><span style="color: rgb(247\, 32\, 8)\; font-weight: bold\;">&nbsp\;Let Freedom Swing!</span></p>\n\n<p align="center" style="margin: 0px\; padding: 0px\; color: rgb(96\, 109\, 120)\; font-family: Helvetica\, Arial\, sans-serif\; font-size: 16px\; background-color: rgb(255\, 255\, 255)\; text-align: center\;"><span style="color: rgb(0\, 0\, 0)\;">All things America - to celebrate</span></p>\n\n<p align="center" style="margin: 0px\; padding: 0px\; color: rgb(96\, 109\, 120)\; font-family: Helvetica\, Arial\, sans-serif\; font-size: 16px\; background-color: rgb(255\, 255\, 255)\; text-align: center\;"><span style="color: rgb(0\, 0\, 0)\;">250 Years!</span></p>\n\n<p align="center" style="margin: 0px\; padding: 0px\; color: rgb(96\, 109\, 120)\; font-family: Helvetica\, Arial\, sans-serif\; font-size: 16px\; background-color: rgb(255\, 255\, 255)\; text-align: center\;"><span style="font-weight: bold\; color: rgb(247\, 32\, 8)\;">USA</span><span style="color: rgb(0\, 0\, 0)\;">&nbsp\;</span><span style="font-weight: bold\; color: rgb(77\, 77\, 77)\;">USA&nbsp\;</span><span style="font-weight: bold\; color: rgb(14\, 23\, 243)\;">USA!</span><br />\n&nbsp\;</p>\n\n<p style="margin: 0px\; padding: 0px\; color: rgb(96\, 109\, 120)\; font-family: Helvetica\, Arial\, sans-serif\; font-size: 16px\; background-color: rgb(255\, 255\, 255)\;"><span style="font-size:16px\;"><span style="font-family:arial\;"><span style="color: rgb(0\, 0\, 0)\;">Grab your clubs and answer the call\,</span></span></span></p>\n\n<p style="margin: 0px\; padding: 0px\; color: rgb(96\, 109\, 120)\; font-family: Helvetica\, Arial\, sans-serif\; font-size: 16px\; background-color: rgb(255\, 255\, 255)\;"><span style="font-size:16px\;"><span style="font-family:arial\;"><span style="color: rgb(0\, 0\, 0)\;"><strong>Thursday\, June 25th at Elk River Golf Club</strong></span></span></span></p>\n\n<p style="margin: 0px\; padding: 0px\; color: rgb(96\, 109\, 120)\; font-family: Helvetica\, Arial\, sans-serif\; font-size: 16px\; background-color: rgb(255\, 255\, 255)\;"><span style="font-size:16px\;"><span style="font-family:arial\;"><span style="color: rgb(0\, 0\, 0)\;">We&rsquo\;re celebrating 250 years of bold American spirit with a day packed full of great golf\, high-energy networking\, and all the red\, white &amp\; FUN you can handle. Whether you&rsquo\;re chasing birdies or building powerhouse connections\, this is where business and the fairway collide in the best way possible.</span></span></span></p>\n\n<p style="margin: 0px\; padding: 0px\; color: rgb(96\, 109\, 120)\; font-family: Helvetica\, Arial\, sans-serif\; font-size: 16px\; background-color: rgb(255\, 255\, 255)\;"><span style="font-size:16px\;"><span style="font-family:arial\;"><span style="color: rgb(0\, 0\, 0)\;">Sponsorships are moving quickly! Don&rsquo\;t get left in the rough while your competitors claim the spotlight. Lock in your spot today and put your brand front and center for one of the Chamber&rsquo\;s most talked-about events of the year.</span></span></span></p>\n
LOCATION:Elk River Golf Club 20015 Elk Lake Rd NW Elk River
UID:e.32.32988
SEQUENCE:3
DTSTAMP:20260421T084645Z
URL:https://business.elkriverchamber.org/events/details/eracc-annual-golf-tournament-32988
END:VEVENT

END:VCALENDAR
